BEGIN:VCALENDAR
VERSION:2.0
PRODID:-//ACPA - ECPv6.15.20//NONSGML v1.0//EN
CALSCALE:GREGORIAN
METHOD:PUBLISH
X-ORIGINAL-URL:https://myacpa.org
X-WR-CALDESC:Events for ACPA
REFRESH-INTERVAL;VALUE=DURATION:PT1H
X-Robots-Tag:noindex
X-PUBLISHED-TTL:PT1H
BEGIN:VTIMEZONE
TZID:UTC
BEGIN:STANDARD
TZOFFSETFROM:+0000
TZOFFSETTO:+0000
TZNAME:UTC
DTSTART:20240101T000000
END:STANDARD
END:VTIMEZONE
BEGIN:VTIMEZONE
TZID:America/Halifax
BEGIN:DAYLIGHT
TZOFFSETFROM:-0400
TZOFFSETTO:-0300
TZNAME:ADT
DTSTART:20240310T060000
END:DAYLIGHT
BEGIN:STANDARD
TZOFFSETFROM:-0300
TZOFFSETTO:-0400
TZNAME:AST
DTSTART:20241103T050000
END:STANDARD
BEGIN:DAYLIGHT
TZOFFSETFROM:-0400
TZOFFSETTO:-0300
TZNAME:ADT
DTSTART:20250309T060000
END:DAYLIGHT
BEGIN:STANDARD
TZOFFSETFROM:-0300
TZOFFSETTO:-0400
TZNAME:AST
DTSTART:20251102T050000
END:STANDARD
BEGIN:DAYLIGHT
TZOFFSETFROM:-0400
TZOFFSETTO:-0300
TZNAME:ADT
DTSTART:20260308T060000
END:DAYLIGHT
BEGIN:STANDARD
TZOFFSETFROM:-0300
TZOFFSETTO:-0400
TZNAME:AST
DTSTART:20261101T050000
END:STANDARD
END:VTIMEZONE
BEGIN:VTIMEZONE
TZID:America/New_York
BEGIN:DAYLIGHT
TZOFFSETFROM:-0500
TZOFFSETTO:-0400
TZNAME:EDT
DTSTART:20240310T070000
END:DAYLIGHT
BEGIN:STANDARD
TZOFFSETFROM:-0400
TZOFFSETTO:-0500
TZNAME:EST
DTSTART:20241103T060000
END:STANDARD
BEGIN:DAYLIGHT
TZOFFSETFROM:-0500
TZOFFSETTO:-0400
TZNAME:EDT
DTSTART:20250309T070000
END:DAYLIGHT
BEGIN:STANDARD
TZOFFSETFROM:-0400
TZOFFSETTO:-0500
TZNAME:EST
DTSTART:20251102T060000
END:STANDARD
BEGIN:DAYLIGHT
TZOFFSETFROM:-0500
TZOFFSETTO:-0400
TZNAME:EDT
DTSTART:20260308T070000
END:DAYLIGHT
BEGIN:STANDARD
TZOFFSETFROM:-0400
TZOFFSETTO:-0500
TZNAME:EST
DTSTART:20261101T060000
END:STANDARD
END:VTIMEZONE
BEGIN:VEVENT
DTSTART;TZID=UTC:20251003T120000
DTEND;TZID=UTC:20251003T130000
DTSTAMP:20260422T023138
CREATED:20250916T191832Z
LAST-MODIFIED:20250916T191844Z
UID:21326-1759492800-1759496400@myacpa.org
SUMMARY:Coalitions & Networks Open House
DESCRIPTION:Coalitions & networks Open House\npresented by Olajiwon McCadney\, ACPA leadership council coordinator of coalitions and networks and coalition & Network chairs\n  \nfriday\, 3 OCTOBER 2025 | 12:00pm ET\nInterested in ways to deepen your involvement and make meaningful connections? Join us for this interactive virtual open house\, where you’ll meet ACPA Coalition and Network Chairs\, discover exciting pathways to get engaged\, and learn about the many ways you can connect with these affinity groups focused on personal identity . We’ll answer your top questions about volunteer roles\, share insider tips on maximizing your membership\, and create space to connect with fellow members—whether you’re brand new or looking to re-energize your involvement. Don’t miss this chance to expand your community and take your engagement to the next level! \nRegistration information:\n\nComplimentary for all\, but advance registration is required.\n\n			\n				REGISTER TODAY
URL:https://myacpa.org/event/coalitions-networks-open-house/
CATEGORIES:Asian Pacific American Network,Careers in Student Affairs Month,Coalition for Disability,Coalition for Women's Identities,Coalition on Men & Masculinities,Free for Members,ISAN,Latinx Network,Multiracial Network,NAIC,Pan African Network,Virtual
ATTACH;FMTTYPE=image/png:https://myacpa.org/wp-content/uploads/2025/09/Fall-2025-Coalitions-Networks-Virtual-Open-House.png
END:VEVENT
BEGIN:VEVENT
DTSTART;TZID=America/Halifax:20251005T110000
DTEND;TZID=America/Halifax:20251005T130000
DTSTAMP:20260422T023138
CREATED:20250806T135641Z
LAST-MODIFIED:20250806T135641Z
UID:21555-1759662000-1759669200@myacpa.org
SUMMARY:Doctoral Student Writing Group presented by Graduate Students & New Professionals Community of Practice
DESCRIPTION:Doctoral Student Writing Group\npresented by Graduate Students & New Professionals Community of Practice\nAre you a current doctoral student or doctoral candidate looking for a dedicated study/writing space or looking for accountability buddies? Join GSNP’s Doctoral Study & Writing Space. This is a biweekly space to study/write and form a community of fellow doctoral students & candidates! \nDates & Times: \n\nEvery other Sunday starting August 24th (August 24\, Sept 7\, Sept 21\, Oct 5\, Oct 19\, Nov 2\, Nov 16\, Nov 30\, Dec 14)\n11:00am-1:00pm ET (8am-10am PT)\n\nParticipants must register in advance for this series. After registering\, you will receive a confirmation email containing information about joining the meeting. \n			\n				REGISTER TODAY
URL:https://myacpa.org/event/doctoral-study-and-writing-space-2025-10-05/
CATEGORIES:Graduate Students & New Professionals Community of Practice,Virtual
ATTACH;FMTTYPE=image/png:https://myacpa.org/wp-content/uploads/2022/03/main_logo-01.png
ORGANIZER;CN="Graduate Students &amp%3B New Professionals Community of Practice":MAILTO:gsnpcop@ACPA.nche.edu
END:VEVENT
BEGIN:VEVENT
DTSTART;TZID=America/New_York:20251007T113000
DTEND;TZID=America/New_York:20251007T123000
DTSTAMP:20260422T023138
CREATED:20250925T154715Z
LAST-MODIFIED:20250925T155754Z
UID:21460-1759836600-1759840200@myacpa.org
SUMMARY:Growing Knowledge Series: Managing an Occupational Hazard
DESCRIPTION:Growing Knowledge Series: Managing an Occupational Hazard\npresented by the GRADUATE STUDENTS & NEW PROFESSIONALS COMMUNITY OF PRACTICE\n  \nTUESDAY\, 7 OCTOBER 2025 | 11:30Am ET\nJoin Dr. Leah Ward\, Director of the Women’s Center in the Office Diversity and Inclusion at the University of Dayton\, as she discusses her 2024 dissertation\, “Managing an Occupational Hazard: A Narrative Analysis of Secondary Traumatic Stress in Higher Education Student Affairs Professionals Amidst the Great Resignation.” During the webinar\, participants will have an opportunity to learn about the key findings from the study on the retention of professionals in cultural centers\, student organization advising\, and academic advising\, particularly why those professionals remain in the field. Dr. Ward will provide space to examine how systemic issues\, emotional labor\, and a need for community all play a critical role in why professionals choose to stay in the field. \nRegistration information:\n\nComplimentary for ACPA Individual Members\n$10 for ACPA Chapter Only Members\n$10 for Non-Members\n$5 for International Non-Members (must currently reside outside the continental United States and Hawaii)\n\n			\n				REGISTER TODAY
URL:https://myacpa.org/event/gks-managing-an-occupational-hazard/
LOCATION:Zoom
CATEGORIES:Careers in Student Affairs Month,Free for Members,Graduate Students & New Professionals Community of Practice,Virtual
ATTACH;FMTTYPE=image/webp:https://myacpa.org/wp-content/uploads/2025/08/GKS-Eddie-Stakelum-1.webp
ORGANIZER;CN="Graduate Students &amp%3B New Professionals Community of Practice":MAILTO:gsnpcop@ACPA.nche.edu
END:VEVENT
BEGIN:VEVENT
DTSTART;TZID=America/New_York:20251016T130000
DTEND;TZID=America/New_York:20251016T140000
DTSTAMP:20260422T023138
CREATED:20251009T221056Z
LAST-MODIFIED:20251009T221430Z
UID:21721-1760619600-1760623200@myacpa.org
SUMMARY:From Paper to Profile: Mastering Résumé\, CV\, and LinkedIn Success
DESCRIPTION:From Paper to Profile: Mastering Resume\, CV\, and Linkedin success\npresented by the commission for global dimensions of student development\n  \nthursday\, 16 OCTOBER 2025 | 1:00-2:00 p.m. ET\nCrafting a strong professional profile goes beyond a polished résumé. This interactive session will guide participants through strategies for creating effective résumés\, CVs\, and LinkedIn profiles\, particularly for international students or professionals with international backgrounds. Whether you are preparing for a job search\, fellowship\, or career transition\, our speakers will share tips to help you highlight your experiences and present yourself with confidence. This webinar is presented by ACPA’s Commission for Global Dimensions of Student Development (CGDSD). \nRegistration information:\n\nComplimentary for ACPA Individual Members\n$10 for ACPA Chapter Only Members\n$10 for Non-Members\n$5 for International Non-Members (must currently reside outside the continental United States and Hawaii)\n\n			\n				REGISTER TODAY
URL:https://myacpa.org/event/from-paper-to-profile/
LOCATION:Zoom
CATEGORIES:Commission for Global Dimensions in Student Development,Commission for Global Dimensions of Student Development,Free for Members,Virtual
ATTACH;FMTTYPE=image/png:https://myacpa.org/wp-content/uploads/2025/10/CGDSD-Resume-Workshop-1024x1024-1.png
ORGANIZER;CN="Graduate Students &amp%3B New Professionals Community of Practice":MAILTO:gsnpcop@ACPA.nche.edu
END:VEVENT
BEGIN:VEVENT
DTSTART;TZID=America/New_York:20251016T153000
DTEND;TZID=America/New_York:20251016T163000
DTSTAMP:20260422T023138
CREATED:20250905T204212Z
LAST-MODIFIED:20250912T180430Z
UID:21170-1760628600-1760632200@myacpa.org
SUMMARY:Ed.D. or Ph.D.? Which is Right for Me?: Voices Across Doctoral Programs
DESCRIPTION:Ed.D. or Ph.D.? Which is Right for Me?Voices Across Doctoral Programs\npresented by the GRADUATE STUDENTS & NEW PROFESSIONALS COMMUNITY OF PRACTICE\n  \nTHURSDAY\, 16 OCTOBER 2025 | 3:30pm ET\nJoin us for a panel discussion featuring current EdD and PhD students who will share their personal experiences navigating the doctoral landscape\, including how they determined which type of program was right for them. Our panelists will discuss their decision-making process in choosing between these two doctoral paths\, offer insights about their program type\, and provide guidance on recognizing when you’re ready to take the next step in your academic and professional journey. Whether you’re considering a practice-focused EdD or a research-intensive PhD\, this panel discussion will encourage you to reflect on your own educational journey. \nRegistration information:\n\nComplimentary for ACPA Individual Members\n$10 for ACPA Chapter Only Members\n$10 for Non-Members\n$5 for International Non-Members (must currently reside outside the continental United States and Hawaii)\n\n			\n				REGISTER TODAY
URL:https://myacpa.org/event/edd-or-phd-which-is-right-for-me/
LOCATION:Zoom
CATEGORIES:Careers in Student Affairs Month,Free for Members,Graduate Students & New Professionals Community of Practice,Virtual
ORGANIZER;CN="Graduate Students &amp%3B New Professionals Community of Practice":MAILTO:gsnpcop@ACPA.nche.edu
END:VEVENT
BEGIN:VEVENT
DTSTART;TZID=America/Halifax:20251019T110000
DTEND;TZID=America/Halifax:20251019T130000
DTSTAMP:20260422T023138
CREATED:20250806T135641Z
LAST-MODIFIED:20250806T135641Z
UID:21556-1760871600-1760878800@myacpa.org
SUMMARY:Doctoral Student Writing Group presented by Graduate Students & New Professionals Community of Practice
DESCRIPTION:Doctoral Student Writing Group\npresented by Graduate Students & New Professionals Community of Practice\nAre you a current doctoral student or doctoral candidate looking for a dedicated study/writing space or looking for accountability buddies? Join GSNP’s Doctoral Study & Writing Space. This is a biweekly space to study/write and form a community of fellow doctoral students & candidates! \nDates & Times: \n\nEvery other Sunday starting August 24th (August 24\, Sept 7\, Sept 21\, Oct 5\, Oct 19\, Nov 2\, Nov 16\, Nov 30\, Dec 14)\n11:00am-1:00pm ET (8am-10am PT)\n\nParticipants must register in advance for this series. After registering\, you will receive a confirmation email containing information about joining the meeting. \n			\n				REGISTER TODAY
URL:https://myacpa.org/event/doctoral-study-and-writing-space-2025-10-19/
CATEGORIES:Graduate Students & New Professionals Community of Practice,Virtual
ATTACH;FMTTYPE=image/png:https://myacpa.org/wp-content/uploads/2022/03/main_logo-01.png
ORGANIZER;CN="Graduate Students &amp%3B New Professionals Community of Practice":MAILTO:gsnpcop@ACPA.nche.edu
END:VEVENT
BEGIN:VEVENT
DTSTART;TZID=America/New_York:20251020T120000
DTEND;TZID=America/New_York:20251020T130000
DTSTAMP:20260422T023138
CREATED:20250905T205212Z
LAST-MODIFIED:20251007T190827Z
UID:21173-1760961600-1760965200@myacpa.org
SUMMARY:GSNP Fall Involvement Panel: Exploring Functional Areas
DESCRIPTION:FALL INVOLVEMENT PANEL: EXPLORING FUNCTIONAL AREAS\npresented by the GRADUATE STUDENTS & NEW PROFESSIONALS COMMUNITY OF PRACTICE\n  \nMONDAY\, 20 OCTOBER 2025 | 12:00pm ET\nAt our Fall Involvement Panel\, GSNP will feature various panelists from ACPA Commissions\, offering a space for graduate students and new professionals to explore functional areas across higher education. Whether you are interested in learning more about specific areas\, or want to broaden your career possibilities\, this involvement panel is a great opportunity to network with peers and seasoned colleagues. \nRegistration information:\n\nComplimentary for ACPA Individual Members\n$10 for ACPA Chapter Only Members\n$10 for Non-Members\n$5 for International Non-Members (must currently reside outside the continental United States and Hawaii)\n\npresenter information:\n\nLixing Li (Commission for Global Dimensions of Student Development)\nMinyan Gao (Commission for Global Dimensions of Student Development)\nDr. Ivy Colon (Commission for Academic Affairs)\nCameron Carrara (Commission for Two-Year Colleges)\nTeddy Howell (Commission for Housing & Residential Life)\nAbigail Leppert (Commission for Housing & Residential Life)\n\n			\n				REGISTER TODAY
URL:https://myacpa.org/event/gsnp-fall-involvement-panel/
LOCATION:Zoom
CATEGORIES:Careers in Student Affairs Month,Free for Members,Graduate Students & New Professionals Community of Practice,Virtual
ORGANIZER;CN="Graduate Students &amp%3B New Professionals Community of Practice":MAILTO:gsnpcop@ACPA.nche.edu
END:VEVENT
BEGIN:VEVENT
DTSTART;TZID=UTC:20251021T120000
DTEND;TZID=UTC:20251021T130000
DTSTAMP:20260422T023138
CREATED:20250908T093632Z
LAST-MODIFIED:20250912T173206Z
UID:21176-1761048000-1761051600@myacpa.org
SUMMARY:Careers in Student Affairs Panel Discussion
DESCRIPTION:CAREERS IN STUDENT AFFAIRS PANEL DISCUSSION\npresented by the COMMISSION FOR CAREER SERVICES\n  \nTUESDAY\, 21 OCTOBER 2025 | 12:00pm ET\nIn celebration of Careers in Student Affairs Month\, the ACPA Commission for Career Services invites you to a panel discussion featuring professionals from a range of functional areas and career stages within student affairs! Panelists will share their experiences and perspectives\, highlighting the diverse pathways and possibilities within the profession. This event is designed for graduate students in student affairs programs and current professionals who want to deepen their understanding of different functional areas or explore potential pivots in their careers. The program will also include dedicated time for audience Q&A. \nRegistration information:\n\nComplimentary for ACPA Individual Members\n$10 for ACPA Chapter Only Members\n$10 for Non-Members\n$5 for International Non-Members (must currently reside outside the continental United States and Hawaii)\n\n			\n				REGISTER TODAY
URL:https://myacpa.org/event/careers-in-student-affairs-panel-discussion/
CATEGORIES:Careers in Student Affairs Month,Commission for Career Services,Free for Members,Virtual
END:VEVENT
BEGIN:VEVENT
DTSTART;TZID=America/New_York:20251022T200000
DTEND;TZID=America/New_York:20251022T220000
DTSTAMP:20260422T023138
CREATED:20251009T222058Z
LAST-MODIFIED:20251017T154455Z
UID:21736-1761163200-1761170400@myacpa.org
SUMMARY:(Un)Scholarship Open Mic Night
DESCRIPTION:the (un)scholarship open mic night\npresented by the pan african network (pan)\n \nwednesday\, 22 OCTOBER 2025 | 8:00-10:00 p.m. ET\nThe (Un)Scholarship Open Mic Night is an opportunity for scholars\, poets\, spoken word artists\, and facilitators alike to share their work in a community-oriented space. This event will provide an opportunity for innovators to share their research and art in a way that dismantles and resists traditional notions of what research and artistry represent. This is an evening of community\, love\, and lived experiences personified through a multitude of storytelling mediums through the core values of PAN. This event is presented by ACPA’s Pan African Network (PAN). \nRegistration information:\n\nComplimentary for ACPA Individual & Chapter Only Members\n$10 for Non-Members Based in U.S.\n$5 for International Non-Members (must currently reside outside the continental United States and Hawaii)\n\n			\n				REGISTER TODAY
URL:https://myacpa.org/event/unscholarship-open-mic-night/
LOCATION:Zoom
CATEGORIES:Free for Members,Pan African Network,Virtual
ATTACH;FMTTYPE=image/png:https://myacpa.org/wp-content/uploads/2025/10/PAN-UnScholarship.png
END:VEVENT
END:VCALENDAR