BEGIN:VCALENDAR
VERSION:2.0
PRODID:-//ACPA - ECPv6.15.20//NONSGML v1.0//EN
CALSCALE:GREGORIAN
METHOD:PUBLISH
X-WR-CALNAME:ACPA
X-ORIGINAL-URL:https://myacpa.org
X-WR-CALDESC:Events for ACPA
REFRESH-INTERVAL;VALUE=DURATION:PT1H
X-Robots-Tag:noindex
X-PUBLISHED-TTL:PT1H
BEGIN:VTIMEZONE
TZID:America/Halifax
BEGIN:DAYLIGHT
TZOFFSETFROM:-0400
TZOFFSETTO:-0300
TZNAME:ADT
DTSTART:20240310T060000
END:DAYLIGHT
BEGIN:STANDARD
TZOFFSETFROM:-0300
TZOFFSETTO:-0400
TZNAME:AST
DTSTART:20241103T050000
END:STANDARD
BEGIN:DAYLIGHT
TZOFFSETFROM:-0400
TZOFFSETTO:-0300
TZNAME:ADT
DTSTART:20250309T060000
END:DAYLIGHT
BEGIN:STANDARD
TZOFFSETFROM:-0300
TZOFFSETTO:-0400
TZNAME:AST
DTSTART:20251102T050000
END:STANDARD
BEGIN:DAYLIGHT
TZOFFSETFROM:-0400
TZOFFSETTO:-0300
TZNAME:ADT
DTSTART:20260308T060000
END:DAYLIGHT
BEGIN:STANDARD
TZOFFSETFROM:-0300
TZOFFSETTO:-0400
TZNAME:AST
DTSTART:20261101T050000
END:STANDARD
END:VTIMEZONE
BEGIN:VTIMEZONE
TZID:America/New_York
BEGIN:DAYLIGHT
TZOFFSETFROM:-0500
TZOFFSETTO:-0400
TZNAME:EDT
DTSTART:20240310T070000
END:DAYLIGHT
BEGIN:STANDARD
TZOFFSETFROM:-0400
TZOFFSETTO:-0500
TZNAME:EST
DTSTART:20241103T060000
END:STANDARD
BEGIN:DAYLIGHT
TZOFFSETFROM:-0500
TZOFFSETTO:-0400
TZNAME:EDT
DTSTART:20250309T070000
END:DAYLIGHT
BEGIN:STANDARD
TZOFFSETFROM:-0400
TZOFFSETTO:-0500
TZNAME:EST
DTSTART:20251102T060000
END:STANDARD
BEGIN:DAYLIGHT
TZOFFSETFROM:-0500
TZOFFSETTO:-0400
TZNAME:EDT
DTSTART:20260308T070000
END:DAYLIGHT
BEGIN:STANDARD
TZOFFSETFROM:-0400
TZOFFSETTO:-0500
TZNAME:EST
DTSTART:20261101T060000
END:STANDARD
END:VTIMEZONE
BEGIN:VEVENT
DTSTART;TZID=America/Halifax:20251102T110000
DTEND;TZID=America/Halifax:20251102T130000
DTSTAMP:20260421T225149
CREATED:20250806T135641Z
LAST-MODIFIED:20250806T135641Z
UID:21557-1762081200-1762088400@myacpa.org
SUMMARY:Doctoral Student Writing Group presented by Graduate Students & New Professionals Community of Practice
DESCRIPTION:Doctoral Student Writing Group\npresented by Graduate Students & New Professionals Community of Practice\nAre you a current doctoral student or doctoral candidate looking for a dedicated study/writing space or looking for accountability buddies? Join GSNP’s Doctoral Study & Writing Space. This is a biweekly space to study/write and form a community of fellow doctoral students & candidates! \nDates & Times: \n\nEvery other Sunday starting August 24th (August 24\, Sept 7\, Sept 21\, Oct 5\, Oct 19\, Nov 2\, Nov 16\, Nov 30\, Dec 14)\n11:00am-1:00pm ET (8am-10am PT)\n\nParticipants must register in advance for this series. After registering\, you will receive a confirmation email containing information about joining the meeting. \n			\n				REGISTER TODAY
URL:https://myacpa.org/event/doctoral-study-and-writing-space-2025-11-02/
CATEGORIES:Graduate Students & New Professionals Community of Practice,Virtual
ATTACH;FMTTYPE=image/png:https://myacpa.org/wp-content/uploads/2022/03/main_logo-01.png
ORGANIZER;CN="Graduate Students &amp%3B New Professionals Community of Practice":MAILTO:gsnpcop@ACPA.nche.edu
END:VEVENT
BEGIN:VEVENT
DTSTART;TZID=America/New_York:20251103T190000
DTEND;TZID=America/New_York:20251103T200000
DTSTAMP:20260421T225149
CREATED:20251028T165116Z
LAST-MODIFIED:20251028T165519Z
UID:22027-1762196400-1762200000@myacpa.org
SUMMARY:Reset: A Check In With CMA
DESCRIPTION:reset: a check in with cma\npresented by the coalition for multicultural affairs (cma) and its networks\n  \nmonday\, 3 november 2025 | 7:00-8:00pm ET\n\n\n\n\n\n\n\n\n\nJoin the Coalition for Multicultural Affairs (CMA) in community with our Networks to pause\, breathe\, reset\, and reconnect toward collective power. CMA’s Networks include the Asian Pacific American Network\, Latinx Network\, Multiracial & Transracial Adoptee Network \, and Pan African Network. \n\n\n \n\n\n\n\n\n\n\n\nRegistration information:\n\nComplimentary for all ACPA Members\n\n			\n				REGISTER TODAY
URL:https://myacpa.org/event/reset-a-check-in-with-cma/
LOCATION:Zoom
CATEGORIES:Asian Pacific American Network,Coalition for Multicultural Affairs,Free for Members,Latinx Network,Multiracial Network,Pan African Network,Virtual
ATTACH;FMTTYPE=image/jpeg:https://myacpa.org/wp-content/uploads/2025/10/unnamed-1.jpg
END:VEVENT
BEGIN:VEVENT
DTSTART;TZID=America/New_York:20251105T130000
DTEND;TZID=America/New_York:20251105T140000
DTSTAMP:20260421T225149
CREATED:20251021T150401Z
LAST-MODIFIED:20251021T150606Z
UID:21896-1762347600-1762351200@myacpa.org
SUMMARY:Growing Knowledge Series: Success of Recent Black Graduates
DESCRIPTION:Growing Knowledge Series: Success of Recent black graduates\npresented in partnership by the communities of practice\n  \nwednesday\, 5 november 2025 | 1:00-2:00pm ET\n\n\n\n\n\nThe Growing Knowledge Series (GKS) creates a pathway for those who have completed their dissertation\, but never published\, to share their scholarship with the profession through a hosted webinar. This collaborative effort of our three Communities of Practice is positioned to benefit practitioners and scholars alike\, creating a space to share new knowledge frequently left on the shelf. \nJoin Dr. Jennifer D. Smith for a presentation that explores the lived experiences of recent Black graduates from a Midwest podiatric medical education program. Drawing from a qualitative study\, this research reveals how these graduates navigated the environment and succeeded; highlighting key findings that underscore the crucial role of both personal resilience and support systems in their success. The study’s findings\, framed by Astin’s (1991) I-E-O Model and Harper’s (2010) Anti-Deficit Achievement Framework\, offer valuable insights for improving recruitment\, retention\, and the overall experience of underrepresented students in podiatric medicine. \nThis webinar is presented in partnership by ACPA’s Communities of Practice. \n\n\n\n\n\nRegistration information:\n\nComplimentary for ACPA Individual Members\n$10 for ACPA Chapter Only Members\n$10 for Non-Members\n$5 for International Non-Members (must currently reside outside the continental United States and Hawaii)\n\n			\n				REGISTER TODAY
URL:https://myacpa.org/event/gsk-success-of-recent-black-graduates/
LOCATION:Zoom
CATEGORIES:Free for Members,Graduate Students & New Professionals Community of Practice,Mid-Level Community of Practice,Senior Level Community of Practice,Virtual
ATTACH;FMTTYPE=image/webp:https://myacpa.org/wp-content/uploads/2025/08/GKS-Eddie-Stakelum-1.webp
END:VEVENT
BEGIN:VEVENT
DTSTART;TZID=America/Halifax:20251105T130000
DTEND;TZID=America/Halifax:20251105T140000
DTSTAMP:20260421T225149
CREATED:20251021T154418Z
LAST-MODIFIED:20251021T155035Z
UID:21922-1762347600-1762351200@myacpa.org
SUMMARY:CSGI Directorate Board Info Session
DESCRIPTION:CSGI Directorate Board Info session\npresented by the coalition for sexuality & gender identities (csgi)\nThe Coalition for Sexuality and Gender Identities (CSGI) is holding informational sessions for people who are interested in joining the Directorate Board to provide leadership for the organization on a number of areas\, projects\, and teams. The session will include a brief overview of the organization\, time to get to know one of the current Chairs\, and space to ask questions about what leadership in CSGI looks like. \n\nDates & Times: \n\nWednesday\, 5 November 2025 at 1pm-2pm ET\nThursday\, 6 November 2025 at 6-7pm ET\n\nParticipants must register in advance to attend a CSGI Directorate Board Info Session. After registering\, you will receive a confirmation email containing information about joining the meeting. \n			\n				REGISTER TODAY
URL:https://myacpa.org/event/csgi-directorate-board-info-session/
CATEGORIES:Coalition for Sexuality & Gender Identities,Virtual
END:VEVENT
BEGIN:VEVENT
DTSTART;TZID=America/Halifax:20251116T110000
DTEND;TZID=America/Halifax:20251116T130000
DTSTAMP:20260421T225149
CREATED:20250806T135641Z
LAST-MODIFIED:20250806T135641Z
UID:21558-1763290800-1763298000@myacpa.org
SUMMARY:Doctoral Student Writing Group presented by Graduate Students & New Professionals Community of Practice
DESCRIPTION:Doctoral Student Writing Group\npresented by Graduate Students & New Professionals Community of Practice\nAre you a current doctoral student or doctoral candidate looking for a dedicated study/writing space or looking for accountability buddies? Join GSNP’s Doctoral Study & Writing Space. This is a biweekly space to study/write and form a community of fellow doctoral students & candidates! \nDates & Times: \n\nEvery other Sunday starting August 24th (August 24\, Sept 7\, Sept 21\, Oct 5\, Oct 19\, Nov 2\, Nov 16\, Nov 30\, Dec 14)\n11:00am-1:00pm ET (8am-10am PT)\n\nParticipants must register in advance for this series. After registering\, you will receive a confirmation email containing information about joining the meeting. \n			\n				REGISTER TODAY
URL:https://myacpa.org/event/doctoral-study-and-writing-space-2025-11-16/
CATEGORIES:Graduate Students & New Professionals Community of Practice,Virtual
ATTACH;FMTTYPE=image/png:https://myacpa.org/wp-content/uploads/2022/03/main_logo-01.png
ORGANIZER;CN="Graduate Students &amp%3B New Professionals Community of Practice":MAILTO:gsnpcop@ACPA.nche.edu
END:VEVENT
BEGIN:VEVENT
DTSTART;TZID=America/New_York:20251119T110000
DTEND;TZID=America/New_York:20251119T120000
DTSTAMP:20260421T225149
CREATED:20251110T225614Z
LAST-MODIFIED:20251111T011716Z
UID:22221-1763550000-1763553600@myacpa.org
SUMMARY:Building Community & Support: The Role of Faculty & Institution in International Student Success
DESCRIPTION:Building Community & Support: The Role of Faculty & Institution in International Student Success\npresented by Commission for Global Dimensions of Student Development\n			\n			\n				\n				\n				\n				\n			\n				\n				\n			\n				\n				\n				\n				\n				\n				\n				\n				\n				\n				\n				\n				\n				\n				REGISTER NOW\n			\n				\n				\n				\n				\n				Wednesday\, 19 November 2025 | 11:00-12:00pm ET\nJoin faculty and international graduate students from Delaware State University as they share how institutions and educators can foster stronger community and support for international student success. This session will feature collaborative insights and authentic student voices\, highlighting experiences across the U.S. and Caribbean contexts. This webinar is presented by ACPA’s Commission for Global Dimensions of Student Development (CGDSD) as a part of International Education Week (IEW). \nRegistration information:\n\nComplimentary for ACPA Individual Members\n$10 for ACPA Chapter Only Members\n$10 for Non-Members\n$5 for International Non-Members (must currently reside outside the continental United States and Hawaii)\n\nPresenter information: \n\n\n\n\n\n\n\n\n\n\n\n\n\n\n\n\n\n\nDr. Justin Lee Alexander\, Delaware State University\nDr. Karen Holland\, Delaware State University\nDr. Pietro Sasso\, Delaware State University\nDr. Tina Mitchell\, Delaware State University\n\n\n\n\n\n\n  \n\n\n\n\n 
URL:https://myacpa.org/event/building-community-support-the-role-of-faculty-institution-in-international-student-success/
CATEGORIES:Commission for Global Dimensions in Student Development,Commission for Global Dimensions of Student Development,Entity Event,Free for Members,Virtual
ATTACH;FMTTYPE=image/jpeg:https://myacpa.org/wp-content/uploads/2025/11/IEW-Week-Building-Community-and-Support-Flyer-2.jpg
ORGANIZER;CN="Commission for Global Dimensions of Student Development":MAILTO:cgdsd@acpa.nche.edu
END:VEVENT
BEGIN:VEVENT
DTSTART;TZID=America/New_York:20251119T130000
DTEND;TZID=America/New_York:20251119T140000
DTSTAMP:20260421T225149
CREATED:20251028T163740Z
LAST-MODIFIED:20251118T182900Z
UID:22020-1763557200-1763560800@myacpa.org
SUMMARY:Work–Life Balance: Supervisor Strategies to Cultivate Thriving Multigenerational Teams
DESCRIPTION:Work-Life Balance: Supervisor Strategies to Cultivate Thriving Multigeneral teams\npresented by the senior-level community of practice (slcop) in partnership with the florida college personnel association (fcpa)\nwednesday\, 19 november 2025 | 1:00-2:00pm ET\n\n\n\n\n\n\n\n\n\n\n\n\n\n\nBurnout and staff turnover are growing challenges in student affairs—and work-life imbalance is a major contributor. Younger generations are redefining work-life balance as a core expectation\, not a benefit. Supporting balance goes beyond offering time off; it’s about fostering a thriving workplace culture that respects individual needs\, promotes belonging\, and prioritizes well-being. As a supervisor\, you play a key role in shaping that cohesive environment. This interactive webinar blends new research with practical strategies to help you support your staff\, reduce burnout\, and boost team morale. We’ll examine how generational differences influence expectations and communication around balance—and how to adapt your leadership approach in response. Come ready to reflect\, connect\, and depart with actionable tools to cultivate a more enjoyable\, energized\, and sustainable workplace. \nThis webinar is presented in partnership by ACPA’s Senior-Level Community of Practice (SLCOP) and Florida College Personnel Association (FCPA). \n\n\n\n\n\n\n\n\n\nACPA/NASPA Professional Competencies: \nWebinar participants will develop their professional competencies in the areas of: Leadership; Organizational and Human Resource. For more information about the ACPA/NASPA Professional Competency Areas for Student Affairs Practitioners\, visit our website. \nLearning Outcomes: \nAs a result of participating in this webinar\, attendees will be able to: \n\nIdentify barriers to their staff members’ work-life balance\nState usable strategies for creating community care and supporting their staff members’ work-life balance\nState usable strategies for role modeling work-life balance\n\nPresenter: \n\n\n\n\n\n\n\n\n\n\n\n\n\n\n\n\n\nDonovan Nichols\, Ph.D. Student in Higher Education\, University of Toledo\n\n\n\n\nDonovan Nichols Donovan Nichols is a passionate educator\, seasoned student affairs professional\, dedicated doctoral student\, creative photographer\, dynamic speaker\, and strategic consultant on a mission to develop leaders\, inspire positive change\, innovate work cultures\, and help people live more balanced lives. Currently pursuing his Ph.D. in Higher Education at The University of Toledo\, Donovan brings over 15 years of progressive experience in student activities—from graduate assistant to assistant dean—at three research universities across the U.S.: University of Nevada Las Vegas (UNLV)\, University of Georgia\, and UToledo. As a self-proclaimed recovering workaholic\, Donovan blends personal lessons learned with extensive research to offer actionable strategies for cultivating healthier\, more balanced work cultures in student affairs. With insight from both student affairs and academic affairs\, Donovan brings a unique\, holistic perspective to his work. Donovan has inspired more than 6\,400 attendees through 80+ presentations in 17 states\, including national conferences like ACPA\, NASPA\, and NACA. When he’s not researching or presenting\, you’ll find Donovan enjoying life with his wife Alycia\, sons Sawyer and Knox\, and dog Duce—or behind the lens of his Canon camera\, solving a Rubik’s Cube\, binging true crime shows\, or enjoying a festive beverage with friends.\n\n\n\n\n\n\n\n\n\n\n\n\n\n\n\n\n\n\n\n\n\n\n\n  \nRegistration information:\n \n\n\n\n\n\nComplimentary for ACPA Individual Members\n$10 for ACPA Chapter Only Members\n$10 for Non-Members\n$5 for International Non-Members (must currently reside outside the continental United States and Hawaii)\n\n			\n				REGISTER TODAY
URL:https://myacpa.org/event/work-life-balance-supervisor-strategies-to-cultivate-thriving-multigenerational-teams/
LOCATION:Zoom
CATEGORIES:Florida College Personnel Association,Free for Members,Senior Level Community of Practice,Virtual
ATTACH;FMTTYPE=image/png:https://myacpa.org/wp-content/uploads/2022/01/main-01.png
ORGANIZER;CN="Senior-Level Community of Practice":MAILTO:slcop@acpa.nche.edu
END:VEVENT
BEGIN:VEVENT
DTSTART;TZID=America/New_York:20251119T140000
DTEND;TZID=America/New_York:20251119T150000
DTSTAMP:20260421T225149
CREATED:20251021T163734Z
LAST-MODIFIED:20251118T183053Z
UID:21929-1763560800-1763564400@myacpa.org
SUMMARY:Let's Talk About It: Approaching Conflict with Confidence and Care
DESCRIPTION:let’s talk about it: approaching conflict with confidence and care\npresented by the graduate students & new professionals community of practice (GSNPCOP)\n  \nwednesday\, 19 november 2025 | 2:00-3:00pm ET\n\n\n\n\n\n\n\n\n\nIn an increasingly complex campus climate\, higher education professionals are called to engage students in honest\, respectful dialogue\, even when topics are challenging. This session will offer insights and strategies for approaching difficult conversations with compassion and intentionality. Featuring a panel of experienced practitioners and small group discussions\, participants will leave with tools to turn tension into understanding. \nThis webinar is presented by ACPA’s Graduate Students & New Community of Practice (GSNPCOP). \nRegistration information: \n\n\n\n\n\n\n\n\n\n\nComplimentary for ACPA Individual Members\n$10 for ACPA Chapter Only Members\n$10 for Non-Members\n$5 for International Non-Members (must currently reside outside the continental United States and Hawaii)\n\n			\n				REGISTER TODAY
URL:https://myacpa.org/event/lets-talk-about-it-approaching-conflict-with-confidence-and-care/
LOCATION:Zoom
CATEGORIES:Free for Members,Graduate Students & New Professionals Community of Practice,Virtual
ATTACH;FMTTYPE=image/png:https://myacpa.org/wp-content/uploads/2022/03/main_logo-01.png
ORGANIZER;CN="Graduate Students &amp%3B New Professionals Community of Practice":MAILTO:gsnpcop@ACPA.nche.edu
END:VEVENT
BEGIN:VEVENT
DTSTART;TZID=America/New_York:20251119T160000
DTEND;TZID=America/New_York:20251119T170000
DTSTAMP:20260421T225150
CREATED:20251021T165746Z
LAST-MODIFIED:20251118T183247Z
UID:21936-1763568000-1763571600@myacpa.org
SUMMARY:AI Across Campus: What the GenAI Survey Means for Student Affairs
DESCRIPTION:AI Across campus: what the genAI survey means for student affairs\npresented by the commission for assessment & evaluation (CAE)\nwednesday\, 19 november 2025 | 4:00-5:00pm ET\n\n\n\n\n\n\n\nArtificial Intelligence (AI) is reshaping higher education at an astonishing pace\, though its realities look different across academic and student affairs. Drawing on results from the GenAI Survey for the Higher Education Professional—and building on strategies emerging from October’s Assessment Institute focus groups—this session will explore how AI tools are being used and what opportunities they present for student affairs practice. Presenters will share data-driven insights\, highlight practical strategies for ethical and effective use\, and invite discussion on how findings may translate differently for student affairs versus academic affairs in advancing student success. Attendees will leave with concrete examples\, resources for professional upskilling\, and a chance to reflect on what AI’s rise means for their own work. Artificial Intelligence is transforming higher education—but what does it mean for student affairs? Drawing on the GenAI Survey for the Higher Education Professional and strategies emerging from the October Assessment Institute focus groups\, this session explores how AI use in academic affairs may (or may not) translate to student affairs practice. Join us to examine emerging strategies\, ethical considerations\, and implications for advancing student success. \n\n\nThis webinar is presented by ACPA’s Commission for Assessment & Evaluation (CAE). \n  \n\n\nACPA/NASPA Professional Competencies: \nWebinar participants will develop their professional competencies in the areas of: Assessment\, Evaluation\, and Research; Leadership; and Technology. For more information about the ACPA/NASPA Professional Competency Areas for Student Affairs Practitioners\, visit our website. \nPresenters: \n\n\n\n\n\n\n\nJoanna Boeing. Ed.M.\, Assistant Director of Assessment at Bridgewater State University\nBobbijo Pinnelli\, Ed.D.\, Associate Dean at Walden University\nRuth Slotnick\, Ph.D.\, Director of Assessment at Bridgewater State University\n\n\n\n\n\n\n\n\n \n \n\n\n  \nRegistration information: \n\n\n\n\n\nComplimentary for ACPA Individual Members\n$10 for ACPA Chapter Only Members\n$10 for Non-Members\n$5 for International Non-Members (must currently reside outside the continental United States and Hawaii)\n\n			\n				REGISTER TODAY
URL:https://myacpa.org/event/ai-across-campus-what-the-genai-survey-means-for-student-affairs/
LOCATION:Zoom
CATEGORIES:Commission for Assessment & Evaluation,Free for Members,Virtual
ATTACH;FMTTYPE=image/png:https://myacpa.org/wp-content/uploads/2020/11/main-01-3.png
ORGANIZER;CN="Graduate Students &amp%3B New Professionals Community of Practice":MAILTO:gsnpcop@ACPA.nche.edu
END:VEVENT
BEGIN:VEVENT
DTSTART;TZID=America/New_York:20251120T160000
DTEND;TZID=America/New_York:20251120T170000
DTSTAMP:20260421T225150
CREATED:20251021T151501Z
LAST-MODIFIED:20251104T204145Z
UID:21906-1763654400-1763658000@myacpa.org
SUMMARY:Discussing Vulnerability: Looking at How Men are Socialized to Develop Friendships
DESCRIPTION:Discussing vulnerability: Looking at How men are socialized to develop friendships\npresented in partnership by the coalition on men & masculinities; coalition for sexuality & gender identities; and coalition for women’s identities\n  \nthursday\, 20 november 2025 | 4:00-5:00pm ET\n\n\n\n\n\n\n\n\nFrom adolescence to adulthood\, friends are a crucial factor throughout our lives. As we are in community with each other\, we not only learn valuable information about ourselves\, but we also gain important perspectives about the world through our friendships. The New York Times’ recently published article “Where Have All of My Deep Male Friendships Gone?” poses the question of what is essential to the development of male friendships. \n\n\n\n\n\n\n\n\n\n\n\n\n\n\nThe Coalitions for Men & Masculinities\, Women’s Identities\, and Sexuality & Gender Identities have partnered together to bring you a dynamic discussion and conversation around vulnerability\, development of men’s friendship\, and men’s socialization. Join us for a conversation facilitated by Dr. Cameron Beatty\, Associate Professor and Associate Department Chair for Educational Leadership & Policy Studies at Florida State University\, as we start with the exploration of men’s socialization\, and then dive into rich dialogue around men’s friendship and vulnerability through an intersectional lens. \n\n\nThis webinar is presented in partnership by ACPA’s Coalition on Men & Masculinities (CMM)\, Coalition for Sexuality & Gender Identities (CSGI)\, and Coalition for Women’s Identities (CWI). \n\n\n\n\n\n\n\n\n\nRegistration information:\n\nComplimentary for ACPA Individual Members\n$10 for ACPA Chapter Only Members\n$10 for Non-Members\n$5 for International Non-Members (must currently reside outside the continental United States and Hawaii)\n\n			\n				REGISTER TODAY
URL:https://myacpa.org/event/discussing-vulnerability/
LOCATION:Zoom
CATEGORIES:Coalition for Women's Identities,Coalition on Men & Masculinities,Free for Members,Virtual
ATTACH;FMTTYPE=image/png:https://myacpa.org/wp-content/uploads/2025/10/ACPA-Webinar-Flyer-UPDATED-1.png
ORGANIZER;CN="Coalition for Women's Identities (CWI)":MAILTO:cwi@acpa.nche.edu
END:VEVENT
BEGIN:VEVENT
DTSTART;TZID=America/New_York:20251121T150000
DTEND;TZID=America/New_York:20251121T160000
DTSTAMP:20260421T225150
CREATED:20251111T010455Z
LAST-MODIFIED:20251111T011821Z
UID:22264-1763737200-1763740800@myacpa.org
SUMMARY:Panel Discussion: Supporting International Students Across Campus
DESCRIPTION:Panel Discussion: Supporting International Students Across Campus\npresented by  Commission for Global Dimensions of Student Development\n			\n			\n				\n				\n				\n				\n			\n				\n				\n			\n				\n				\n				\n				\n				\n				\n				\n				\n				\n				\n				\n				\n				\n				REGISTER NOW\n			\n				\n				\n				\n				\n				Friday\, 21 November 2025 | 3:00-4:00pm ET\nThis webinar will bring in professionals from various functional areas to talk about how they work with international students on campus. The purpose of this panel is to exchange ideas on evidence-based practices on supporting international students. This webinar is presented by ACPA’s Commission for Global Dimensions of Student Development (CGDSD) as a part of International Education Week (IEW). \nRegistration information:\n\nComplimentary for ACPA Individual Members\n$10 for ACPA Chapter Only Members\n$10 for Non-Members\n$5 for International Non-Members (must currently reside outside the continental United States and Hawaii)\n\nPresenter information:\nLixing Li\, Washington University in St. LouisYibin Wei\, James Madison UniversityVedika Salunke\, Oberlin CollegeKyoung-Ah Lee\, University of PittsburghLydia Peterson\, Amherst College
URL:https://myacpa.org/event/panel-discussion-supporting-international-students-across-campus/
CATEGORIES:Commission for Global Dimensions of Student Development,Entity Event,Free for Members,Virtual
ATTACH;FMTTYPE=image/jpeg:https://myacpa.org/wp-content/uploads/2025/11/IEW-Supporting-International-Students-Flyer-2.jpg
ORGANIZER;CN="Commission for Global Dimensions of Student Development":MAILTO:cgdsd@acpa.nche.edu
END:VEVENT
BEGIN:VEVENT
DTSTART;TZID=America/Halifax:20251130T110000
DTEND;TZID=America/Halifax:20251130T130000
DTSTAMP:20260421T225150
CREATED:20250806T135641Z
LAST-MODIFIED:20250806T135641Z
UID:21559-1764500400-1764507600@myacpa.org
SUMMARY:Doctoral Student Writing Group presented by Graduate Students & New Professionals Community of Practice
DESCRIPTION:Doctoral Student Writing Group\npresented by Graduate Students & New Professionals Community of Practice\nAre you a current doctoral student or doctoral candidate looking for a dedicated study/writing space or looking for accountability buddies? Join GSNP’s Doctoral Study & Writing Space. This is a biweekly space to study/write and form a community of fellow doctoral students & candidates! \nDates & Times: \n\nEvery other Sunday starting August 24th (August 24\, Sept 7\, Sept 21\, Oct 5\, Oct 19\, Nov 2\, Nov 16\, Nov 30\, Dec 14)\n11:00am-1:00pm ET (8am-10am PT)\n\nParticipants must register in advance for this series. After registering\, you will receive a confirmation email containing information about joining the meeting. \n			\n				REGISTER TODAY
URL:https://myacpa.org/event/doctoral-study-and-writing-space-2025-11-30/
CATEGORIES:Graduate Students & New Professionals Community of Practice,Virtual
ATTACH;FMTTYPE=image/png:https://myacpa.org/wp-content/uploads/2022/03/main_logo-01.png
ORGANIZER;CN="Graduate Students &amp%3B New Professionals Community of Practice":MAILTO:gsnpcop@ACPA.nche.edu
END:VEVENT
END:VCALENDAR