BEGIN:VCALENDAR
VERSION:2.0
PRODID:-//ACPA - ECPv6.15.20//NONSGML v1.0//EN
CALSCALE:GREGORIAN
METHOD:PUBLISH
X-ORIGINAL-URL:https://myacpa.org
X-WR-CALDESC:Events for ACPA
REFRESH-INTERVAL;VALUE=DURATION:PT1H
X-Robots-Tag:noindex
X-PUBLISHED-TTL:PT1H
BEGIN:VTIMEZONE
TZID:America/Halifax
BEGIN:DAYLIGHT
TZOFFSETFROM:-0400
TZOFFSETTO:-0300
TZNAME:ADT
DTSTART:20250309T060000
END:DAYLIGHT
BEGIN:STANDARD
TZOFFSETFROM:-0300
TZOFFSETTO:-0400
TZNAME:AST
DTSTART:20251102T050000
END:STANDARD
BEGIN:DAYLIGHT
TZOFFSETFROM:-0400
TZOFFSETTO:-0300
TZNAME:ADT
DTSTART:20260308T060000
END:DAYLIGHT
BEGIN:STANDARD
TZOFFSETFROM:-0300
TZOFFSETTO:-0400
TZNAME:AST
DTSTART:20261101T050000
END:STANDARD
BEGIN:DAYLIGHT
TZOFFSETFROM:-0400
TZOFFSETTO:-0300
TZNAME:ADT
DTSTART:20270314T060000
END:DAYLIGHT
BEGIN:STANDARD
TZOFFSETFROM:-0300
TZOFFSETTO:-0400
TZNAME:AST
DTSTART:20271107T050000
END:STANDARD
END:VTIMEZONE
BEGIN:VTIMEZONE
TZID:America/New_York
BEGIN:DAYLIGHT
TZOFFSETFROM:-0500
TZOFFSETTO:-0400
TZNAME:EDT
DTSTART:20250309T070000
END:DAYLIGHT
BEGIN:STANDARD
TZOFFSETFROM:-0400
TZOFFSETTO:-0500
TZNAME:EST
DTSTART:20251102T060000
END:STANDARD
BEGIN:DAYLIGHT
TZOFFSETFROM:-0500
TZOFFSETTO:-0400
TZNAME:EDT
DTSTART:20260308T070000
END:DAYLIGHT
BEGIN:STANDARD
TZOFFSETFROM:-0400
TZOFFSETTO:-0500
TZNAME:EST
DTSTART:20261101T060000
END:STANDARD
BEGIN:DAYLIGHT
TZOFFSETFROM:-0500
TZOFFSETTO:-0400
TZNAME:EDT
DTSTART:20270314T070000
END:DAYLIGHT
BEGIN:STANDARD
TZOFFSETFROM:-0400
TZOFFSETTO:-0500
TZNAME:EST
DTSTART:20271107T060000
END:STANDARD
END:VTIMEZONE
BEGIN:VTIMEZONE
TZID:America/New_York
BEGIN:DAYLIGHT
TZOFFSETFROM:-0500
TZOFFSETTO:-0400
TZNAME:EDT
DTSTART:20250309T070000
END:DAYLIGHT
BEGIN:STANDARD
TZOFFSETFROM:-0400
TZOFFSETTO:-0500
TZNAME:EST
DTSTART:20251102T060000
END:STANDARD
BEGIN:DAYLIGHT
TZOFFSETFROM:-0500
TZOFFSETTO:-0400
TZNAME:EDT
DTSTART:20260308T070000
END:DAYLIGHT
BEGIN:STANDARD
TZOFFSETFROM:-0400
TZOFFSETTO:-0500
TZNAME:EST
DTSTART:20261101T060000
END:STANDARD
BEGIN:DAYLIGHT
TZOFFSETFROM:-0500
TZOFFSETTO:-0400
TZNAME:EDT
DTSTART:20270314T070000
END:DAYLIGHT
BEGIN:STANDARD
TZOFFSETFROM:-0400
TZOFFSETTO:-0500
TZNAME:EST
DTSTART:20271107T060000
END:STANDARD
END:VTIMEZONE
BEGIN:VTIMEZONE
TZID:UTC
BEGIN:STANDARD
TZOFFSETFROM:+0000
TZOFFSETTO:+0000
TZNAME:UTC
DTSTART:20250101T000000
END:STANDARD
END:VTIMEZONE
BEGIN:VEVENT
DTSTART;TZID=America/Halifax:20260302T120000
DTEND;TZID=America/Halifax:20260302T130000
DTSTAMP:20260421T161708
CREATED:20260217T143704Z
LAST-MODIFIED:20260217T143713Z
UID:23613-1772452800-1772456400@myacpa.org
SUMMARY:Spotlight on Academic Support: ACPA26 Preview
DESCRIPTION:Spotlight on Academic Support: ACPA26 Preview\n2 March • 12:00-1:00pm ET\npresented by ACPA’s Commission for Academic Support in Higher Education (CASHE)\nJoin us for an engaging virtual event spotlighting upcoming ACPA26 Annual Convention sessions endorsed by the Commission for Academic Support in Higher Education (CASHE)\, which are focused on academic support and student success. Presenters will offer brief previews of their sessions\, share key takeaways\, and engage with the academic support community. This is a great opportunity to explore innovative practices\, connect with presenters ahead of the Convention\, and identify sessions aligned with your work.\n  \nsession Information\n\n\n\nLearning Outcomes: \nAs a result of participating in this virtual event\, attendees will: \n\nApply insights from session previews to plan a targeted conference experience aligned with their academic support areas and professional goals\nApply strategies highlighted in session previews to identify potential enhancements to academic support programs or practices at their home institutions\n\nProfessional Competencies: \nWebinar participants will develop their professional competencies in the areas of: Advising and Supporting. For more information about the ACPA/NASPA Professional Competency Areas for Student Affairs Practitioners\, visit our website. \n  \n\n\n\n\n\n\nRegistration Information\nParticipants must register in advance for this webinar. After registering\, you will receive a confirmation email containing information about joining the meeting. \n\nComplimentary for ACPA Individual Members\n$10 for Chapter Only Members\n$10 for Non-Members Based in U.S.\n$5 for International Non-Members\n\n			\n				REGISTER TODAY
URL:https://myacpa.org/event/spotlight-on-academic-support-acpa26-preview/
CATEGORIES:Commission for Academic Support in Higher Education,Free for Members,Virtual
ATTACH;FMTTYPE=image/png:https://myacpa.org/wp-content/uploads/2026/02/main-01-3.png
END:VEVENT
BEGIN:VEVENT
DTSTART;TZID=America/New_York:20260306T140000
DTEND;TZID=America/New_York:20260306T153000
DTSTAMP:20260421T161708
CREATED:20260219T153101Z
LAST-MODIFIED:20260220T150525Z
UID:23654-1772805600-1772811000@myacpa.org
SUMMARY:CMA General Membership Meeting
DESCRIPTION:CMA General Membership Meeting\npresented by the coalition for multicultural affairs (cma) and its networks\n  \nFriday\, 6 March 2026 | 2:00-3:30 pm ET\n\n\n\n\n\n\n\n\n\nJoin the Coalition for Multicultural Affairs (CMA) in community with our Networks to gather for a general membership meeting. CMA’s Networks include the Asian Pacific American Network\, Latinx Network\, Multiracial & Transracial Adoptee Network \, and Pan African Network. \n\n\n \n\n\n\n\n\n\n\n\nRegistration information:\n\nComplimentary for all ACPA Members\n\n			\n				REGISTER TODAY
URL:https://myacpa.org/event/cma-general-membership-meeting/
LOCATION:Zoom
CATEGORIES:Asian Pacific American Network,Coalition for Multicultural Affairs,Free for Members,Latinx Network,Multiracial Network,Pan African Network,Virtual
ATTACH;FMTTYPE=image/jpeg:https://myacpa.org/wp-content/uploads/2026/02/March-2026.jpg
END:VEVENT
BEGIN:VEVENT
DTSTART;TZID=America/New_York:20260309T150000
DTEND;TZID=America/New_York:20260309T160000
DTSTAMP:20260421T161708
CREATED:20260227T224907Z
LAST-MODIFIED:20260227T230511Z
UID:23750-1773068400-1773072000@myacpa.org
SUMMARY:Bridging the Gap Between National Entertainment and Higher Ed
DESCRIPTION:Bridging the Gap Between National Entertainment and Higher Ed\n			\n				\n				\n				\n				\n				Presented by the Commission for Student Involvement\n			\n				\n				\n				\n				\n				Monday\, March 9 2026 | 3:00PM EST\n			\n				\n				\n				\n				\n				Planning a large event can be overwhelming\, especially when you combine it with campus hurdles and red tape. Everyone is short on resources\, time\, and staff\, and sometimes it feels as though high level artist agents are speaking a different language. Having a clear strategy\, some background context\, and a realistic timeline and plan helps. Let’s dive into the details of how the music industry works\, and how your campus event fits into the larger picture. Participants will leave this workshop with not only a plan and some resources to achieve their goals\, but also some background knowledge of how live events on college campuses fit into the overall scheme of an artist’s touring plans. \nThis event is complementary for members. \n			\n				Register Now
URL:https://myacpa.org/event/bridging-the-gap-between-national-entertainment-and-higher-ed/
LOCATION:Online
CATEGORIES:Commission for Student Involvement,Free for Members,Virtual
ORGANIZER;CN="Commission for Student Involvement":MAILTO:csi@acpa.nche.edu
END:VEVENT
BEGIN:VEVENT
DTSTART;TZID=UTC:20260313T150000
DTEND;TZID=UTC:20260313T160000
DTSTAMP:20260421T161708
CREATED:20260217T172347Z
LAST-MODIFIED:20260217T173229Z
UID:23618-1773414000-1773417600@myacpa.org
SUMMARY:Anchored at Convention: Coalitions & Networks ACPA26 Virtual Preview
DESCRIPTION:Anchored at Convention: Coalitions & networks ACPA26 Virtual Preview\npresented by Olajiwon McCadney\, ACPA leadership council coordinator of coalitions and networks and coalition & Network chairs\n  \nfriday\, 13 March 2026 | 3:00pm ET\nJoin us for a pre-convention virtual social with ACPA’s Coalitions and Networks\, which foster mentoring\, advance scholarship\, and build community across roles and identities. This session offers a preview of what to expect from the Coalitions and Networks at the ACPA26 Annual Convention in Baltimore\, Maryland. Participants will connect directly with Coalition and Network leaders to learn about upcoming socials\, sponsored programs\, and open business meetings. Attendees will also be entered into a giveaway raffle for a chance to win books during the session. \nRegistration information:\n\nComplimentary for all\, but advance registration is required.\n\n			\n				REGISTER TODAY
URL:https://myacpa.org/event/anchored-at-convention-coalitions-and-networks-acpa26-virtual-preview/
CATEGORIES:Asian Pacific American Network,Coalition for Disability,Coalition for Multicultural Affairs,Coalition for Sexuality & Gender Identities,Coalition for Women's Identities,Coalition on Men & Masculinities,Free for Members,ISAN,Latinx Network,Multiracial Network,NAIC,Pan African Network,Virtual
END:VEVENT
BEGIN:VEVENT
DTSTART;TZID=America/New_York:20260319T120000
DTEND;TZID=America/New_York:20260319T130000
DTSTAMP:20260421T161708
CREATED:20260310T155016Z
LAST-MODIFIED:20260310T192420Z
UID:23886-1773921600-1773925200@myacpa.org
SUMMARY:Baltimore Bound: GSNP Connection & Involvement Chat
DESCRIPTION:Baltimore Bound: GSNP Connection & Involvement Chat\npresented by the GRADUATE STUDENTS & NEW PROFESSIONALS COMMUNITY OF PRACTICE\n  \nThursday\, 19 March 2026 | 12:00-1:00pm ET\nGSNPCOP is hosting an info session for graduate students and new professionals preparing for ACPA’s Annual Convention in Baltimore. This conversation offers a welcoming space to learn how to get involved\, understand engagement opportunities\, and build early connections before arriving at Convention. Participants can meet peers\, ask questions about navigating the experience\, and explore ways to plug into ACPA’s communities and leadership pathways.\n \nRegistration information:\nComplimentary for ACPA Members and Non-Members \n\n\n\n \nACPA/NASPA Professional competencies:\nWebinar participants will develop their professional competencies in the areas of: Personal and Ethical Foundations; and Values\, Philosophy\, and History. For more information about the ACPA/NASPA Professional Competency Areas for Student Affairs Practitioners\, visit our website. \n  \n\n\n\n			\n				REGISTER TODAY
URL:https://myacpa.org/event/baltimore-bound-gsnp-connection-involvement-chat/
LOCATION:Zoom
CATEGORIES:Free for Members,Graduate Students & New Professionals Community of Practice,Virtual
ATTACH;FMTTYPE=image/png:https://myacpa.org/wp-content/uploads/2026/03/main_logo-01-2.png
ORGANIZER;CN="Graduate Students &amp%3B New Professionals Community of Practice":MAILTO:gsnpcop@ACPA.nche.edu
END:VEVENT
BEGIN:VEVENT
DTSTART;TZID=America/Halifax:20260331T173000
DTEND;TZID=America/Halifax:20260331T193000
DTSTAMP:20260421T161708
CREATED:20260330T174312Z
LAST-MODIFIED:20260330T175352Z
UID:24122-1774978200-1774985400@myacpa.org
SUMMARY:CFI Business Meeting and Social
DESCRIPTION:Please join CFI for our Convention Business Meeting and Social on Tuesday\, 3/31 from 5:30pm-7:30pm in Convention Center Room 305! We’ll be celebrating our Award Winners\, sharing updates\, and taking your questions about joining the CFI Directorate Board for the next term. This is also our Convention Social\, so there will be time for community-building and connections with other fat people at ACPA! Light snacks will be provided. We hope to see you there.
URL:https://myacpa.org/event/cfi-business-meeting-and-social/
LOCATION:Baltimore Convention Center
CATEGORIES:Coalition for Fat Identities,Entity Event,In-Person
END:VEVENT
END:VCALENDAR