BEGIN:VCALENDAR
VERSION:2.0
PRODID:-//ACPA - ECPv6.15.20//NONSGML v1.0//EN
CALSCALE:GREGORIAN
METHOD:PUBLISH
X-ORIGINAL-URL:https://myacpa.org
X-WR-CALDESC:Events for ACPA
REFRESH-INTERVAL;VALUE=DURATION:PT1H
X-Robots-Tag:noindex
X-PUBLISHED-TTL:PT1H
BEGIN:VTIMEZONE
TZID:America/New_York
BEGIN:DAYLIGHT
TZOFFSETFROM:-0500
TZOFFSETTO:-0400
TZNAME:EDT
DTSTART:20250309T070000
END:DAYLIGHT
BEGIN:STANDARD
TZOFFSETFROM:-0400
TZOFFSETTO:-0500
TZNAME:EST
DTSTART:20251102T060000
END:STANDARD
BEGIN:DAYLIGHT
TZOFFSETFROM:-0500
TZOFFSETTO:-0400
TZNAME:EDT
DTSTART:20260308T070000
END:DAYLIGHT
BEGIN:STANDARD
TZOFFSETFROM:-0400
TZOFFSETTO:-0500
TZNAME:EST
DTSTART:20261101T060000
END:STANDARD
BEGIN:DAYLIGHT
TZOFFSETFROM:-0500
TZOFFSETTO:-0400
TZNAME:EDT
DTSTART:20270314T070000
END:DAYLIGHT
BEGIN:STANDARD
TZOFFSETFROM:-0400
TZOFFSETTO:-0500
TZNAME:EST
DTSTART:20271107T060000
END:STANDARD
END:VTIMEZONE
BEGIN:VEVENT
DTSTART;TZID=America/New_York:20260422T130000
DTEND;TZID=America/New_York:20260422T143000
DTSTAMP:20260421T151701
CREATED:20260303T163845Z
LAST-MODIFIED:20260303T164701Z
UID:23777-1776862800-1776868200@myacpa.org
SUMMARY:Demystifying the Awards Process: Empowering HESA Faculty to Pursue Professional Recognition with Confidence
DESCRIPTION:Demystifying the Awards Process: Empowering HESA Faculty to Pursue Professional Recognition with Confidence\npresented by the commission for Faculty & Graduate Programs (CFGP)\nThursday\, 22 April 2026 | 1:00-2:30pm ET\n\n\n\n\n\n\n\n\nFaculty awards can feel mysterious\, exclusive\, or reserved for “certain people”—but they don’t have to be. This interactive session is designed to equip HESA faculty across all career stages with the clarity\, confidence\, and practical strategies needed to pursue professional recognition that reflects the impact of their teaching\, scholarship\, and service. Together\, we will unpack why awards matter\, how visibility shapes nomination opportunities\, and what it takes to craft compelling\, award‑ready materials. Participants will explore the landscape of major awards and learn how nomination committees think\, and begin building a personalized plan for pursuing recognition that aligns with their goals and values. Whether you’ve never been nominated\, are preparing your first dossier\, or want to pay it forward by uplifting colleagues\, this session offers tools and insights to help you navigate the awards ecosystem with intention and authenticity. \nThis webinar is presented by ACPA’s Commission for Faculty & Graduate Programs (CFGP). \nLearning Outcomes: \nAs a result of participating in this webinar\, attendees will: \n\nUnderstand why awards and recognition matter for academic careers\, teaching impact\, and professional visibility\nLearn strategies to increase professional visibility so they are nominated\, noticed\, and considered for awards\nBegin developing or refining award‑ready application materials (narratives\, CV sections\, evidence of impact)\nLeave with a concrete 6‑month action plan to pursue at least one award opportunity\n\n\n\n\nACPA/NASPA Professional Competencies: \nWebinar participants will develop their professional competencies in the areas of: Leadership; and Personal and Ethical Foundations. For more information about the ACPA/NASPA Professional Competency Areas for Student Affairs Practitioners\, visit our website. \nPresenters: \nTonisha Lane\, Ph.D.\, Virginia Tech UniversityMichael Daniels\, Ph.D.\, Kent State University \n\n\n\n  \nRegistration information: \n\n\n\n\n\nComplimentary for ACPA Individual Members\n$10 for ACPA Chapter Only Members\n$10 for Non-Members\n$5 for International Non-Members (must currently reside outside the continental United States and Hawaii)\n\n			\n				REGISTER TODAY
URL:https://myacpa.org/event/demystifying-the-awards-process-empowering-hesa-faculty-to-pursue-professional-recognition-with-confidence/
LOCATION:Zoom
CATEGORIES:Commission for Faculty & Graduate Programs,Free for Members,Virtual
ATTACH;FMTTYPE=image/webp:https://myacpa.org/wp-content/uploads/2026/03/main-1.webp
END:VEVENT
END:VCALENDAR