BEGIN:VCALENDAR
VERSION:2.0
PRODID:-//ACPA - ECPv6.15.20//NONSGML v1.0//EN
CALSCALE:GREGORIAN
METHOD:PUBLISH
X-ORIGINAL-URL:https://myacpa.org
X-WR-CALDESC:Events for ACPA
REFRESH-INTERVAL;VALUE=DURATION:PT1H
X-Robots-Tag:noindex
X-PUBLISHED-TTL:PT1H
BEGIN:VTIMEZONE
TZID:UTC
BEGIN:STANDARD
TZOFFSETFROM:+0000
TZOFFSETTO:+0000
TZNAME:UTC
DTSTART:20230101T000000
END:STANDARD
END:VTIMEZONE
BEGIN:VTIMEZONE
TZID:America/New_York
BEGIN:DAYLIGHT
TZOFFSETFROM:-0500
TZOFFSETTO:-0400
TZNAME:EDT
DTSTART:20230312T070000
END:DAYLIGHT
BEGIN:STANDARD
TZOFFSETFROM:-0400
TZOFFSETTO:-0500
TZNAME:EST
DTSTART:20231105T060000
END:STANDARD
BEGIN:DAYLIGHT
TZOFFSETFROM:-0500
TZOFFSETTO:-0400
TZNAME:EDT
DTSTART:20240310T070000
END:DAYLIGHT
BEGIN:STANDARD
TZOFFSETFROM:-0400
TZOFFSETTO:-0500
TZNAME:EST
DTSTART:20241103T060000
END:STANDARD
BEGIN:DAYLIGHT
TZOFFSETFROM:-0500
TZOFFSETTO:-0400
TZNAME:EDT
DTSTART:20250309T070000
END:DAYLIGHT
BEGIN:STANDARD
TZOFFSETFROM:-0400
TZOFFSETTO:-0500
TZNAME:EST
DTSTART:20251102T060000
END:STANDARD
END:VTIMEZONE
BEGIN:VEVENT
DTSTART;TZID=UTC:20240507T140000
DTEND;TZID=UTC:20240507T150000
DTSTAMP:20260424T143122
CREATED:20240221T214743Z
LAST-MODIFIED:20240301T200815Z
UID:13522-1715090400-1715094000@myacpa.org
SUMMARY:Student Affairs Search Committees: Navigating Institutional Commitments to Diversity
DESCRIPTION:For years\, higher education administrators have espoused commitments to hiring and employing a diverse group of staff. Despite these commitments\, however\, staff demographics have not significantly changed over recent decades. This session reviews the results of a 2022 research study which explored the ways search committee members understand their roles and navigate institutional commitments to diversity. Results reveal a new conceptual model for meaning making during hiring processes and highlight actions that can both advance or hinder representative hiring goals. This webinar will be held on Tuesday May 07 2024\, 2:00 PM – 3:00 PM and is presented by ACPA’s Mid-Level Community of Practice (MLCOP). Register here. \nRegistration Fees: \nComplimentary for ACPA Individual Members \n$10 for ACPA Chapter Only Members \n$10 for Non-Members \nACPA/NASPA Professional Competencies: \nOrganizational and Human Resource \nPresenter: \nDr. Rachel Aho\, Director of Housing at the University of Utah & 85th President of ACPA College Student Educators International \n\n\n\nDr. Rachel Aho currently serves as 85th President of ACPA-College Student Educators International. She also works as Director of Housing at the University of Utah. In this role\, she leads efforts to advance marketing\, assessment\, operations\, event services\, information technology\, strategic planning\, and human resource areas. Dr. Aho has taught in the University of Utah’s Undergraduate Studies leadership minor program and is a frequent guest lecturer for student affairs graduate programs across the country. Within ACPA\, Dr. Aho has served as Chair for the Commission on Campus Safety and Emergency Preparedness\, Assembly Coordinator on the ACPA Governing Board\, and was named as a 2020 ACPA Diamond Honoree. Dr. Aho has also a co-author of ACPA’s “A Bold Vision Forward: A Framework for the Strategic Imperative for Racial Justice and Decolonization”; a key student affairs publication. She is excited to join you today as part of this webinar!
URL:https://myacpa.org/event/student-affairs-search-committees-navigating-institutional-commitments-to-diversity/
LOCATION:Zoom
CATEGORIES:Mid-Level Community of Practice,Virtual
END:VEVENT
BEGIN:VEVENT
DTSTART;TZID=America/New_York:20240522T140000
DTEND;TZID=America/New_York:20240522T150000
DTSTAMP:20260424T143122
CREATED:20240424T141322Z
LAST-MODIFIED:20240424T142240Z
UID:14935-1716386400-1716390000@myacpa.org
SUMMARY:ACPA@100: Critical Issues: Present and Future
DESCRIPTION:ACPA@100as we celebrate 100 years of acpa\, join us for a free webinar on “critical issues: present and future”\n				REGISTER for free\n			\n			\n				\n				\n				\n				\n			\n				\n				\n			\n				\n				\n				\n				\n				\n				\n				\n				\n				\n				\n				\n				\n				\n				\n				\n				\n				\n				VIRTUAL EVENT // Friday\, May 22 // 2:00-3:00pm ET\n \nJoin emerging scholars and scholar practitioners Shaina Philpot\, Alex C. Lange\, Jacki Mac\, Q Hutchings\, and Katherine Cho as they discuss critical concerns facing higher education and student affairs. Each topic will be considered through a fast-paced\, engaging presentation. This webinar centers our commitment to racial justice and decolonization and gets to the heart of ACPA’s past and future commitment to continued growth\, intentionality\, and progress in the field.  \nPanelists Include: \nShaina Philpot // University of Minnesota-Morris \nAlex C. Lange // Colorado State University-Fort Collins \nJacqueline Mac // Northern Illinois University  \nQuortne R. Hutchings // Northern Illinois University \nKatherine S. Cho // Loyola University\, Chicago \n			\n				\n				\n				\n				\n				REGISTRATION\nRegistration for this event is FREE!  \nPlus\, find more information about other ACPA@100 experiences and opportunities – from webinars and podcasts\, to the unsung champion recognition\, to ACPA Day in Washington\, D.C. – on our website: https://myacpa.org/acpa100/.  Established in 1924\, ACPA-College Student Educators International honors and celebrates 100 years of leadership in and service to the higher education and student affairs community in 2024. This is an opportunity to reflect on and acknowledge the history of our practice\, scholarship\, and advocacy while simultaneously positioning ACPA to meet  the needs of higher and tertiary education and our profession to best serve students and professionals in the next 100 years. We invite members – past\, present\, and future – to join our efforts to continue our 100-year history of boldly transforming higher education by getting involved in celebrations from 3 January 2024 through ACPA Day on 21 October 2024. \n			\n				REGISTER for this event
URL:https://myacpa.org/event/acpa100criticalissues/
LOCATION:Online
CATEGORIES:Virtual
ATTACH;FMTTYPE=image/png:https://myacpa.org/wp-content/uploads/2024/04/Critical-Issues-Present-Future.png
END:VEVENT
BEGIN:VEVENT
DTSTART;TZID=America/New_York:20240528T120000
DTEND;TZID=America/New_York:20240723T130000
DTSTAMP:20260424T143122
CREATED:20240416T153811Z
LAST-MODIFIED:20240508T141643Z
UID:14158-1716897600-1721739600@myacpa.org
SUMMARY:Summer 2024 Supervisor Strengths Institute
DESCRIPTION:Supervisor Strengths InstituteBecome a More Confident & Empowered Supervisor in as Little as 8-Weeks!\n\n				Registration is open!\n			\n			\n				\n				\n				\n				\n			\n				\n				\n			\n				\n				\n				\n				\n				\n				\n				\n				\n				\n				\n				\n				\n				\n				\n				\n				\n				\n				9 Tuesdays (28 May – 23 July) // 12pm-1pm ET each Week\nDelivered Virtually\nACPA is excited to partner with Strengths University for the Summer 2024 Supervisor Strengths Institute! \nLearn to become a more effective supervisor and show up authentically in your leadership role. You’ll gain skills around how to feel balanced\, aligned\, and able to genuinely enjoy your work while having the energy to do your best work. Strengths University understands the challenges\, the frustrations\, and the joys of leading a team. We want to help you manage the stress and chaos\, so you can better lead your team\, support your students\, and have more balance in your life. \nMore information on this Institute can be found on the Strengths University website! \n			\n				\n				\n				\n				\n				\n				\n			\n				\n				\n				\n				\n				The Supervisor Strengths Institute combines asynchronous learning with group and individual Success and Accountability calls to give participants multiple opportunities to absorb\, discuss\, and implement what they’re learning. We use the CliftonStrengths framework\, to empower participants to both develop their talents and customize the content based on those talents. We also use a wholistic approach\, because supervisors are more than their supervisor role. How you show up in the world\, impacts how you show up as a supervisor.\n\nParticipants in the Institute will get…\n\n\n8-Weeks of Online Learning Modules\, including weekly worksheets and reflection prompts\n9 Group Success and Accountability Calls with your Institute cohort (60-Minutes each)\n1 Individual Success and Accountability Call (30-Minutes)\nThe CliftonStrengths Report for Managers – featuring your Top 10 Talent Themes\n\nDuring the Institute\, we’ll cover a variety of topics\, all designed to transform you from a stressed and overwhelmed supervisor\, into a more effective and empowered leader to your team. Specifically\, we’ll dive into… \n\n			\n			\n				\n				\n				\n				\n			\n				\n				\n				\n				\n				\n				\n				\n				\n				\n				\n				Energy ManagementDid you know energy is your most valuable resource? Yet\, we often waste our energy working on things that aren’t productive – or in ways that are productive. That leaves you feeling exhausted at work and at home. In this first week\, we’ll talk about how to better protect your energy\, so you can use it for the things that are most important to you.\n				\n			\n				\n				\n				\n				\n				Discovering your authentic leadership style\nThe greatest leaders aren’t good at everything. They focus their energy on their strengths and surround themselves with folks who excel in other areas. You’ll discover your own authentic leadership style\, one that stems from your unique talents. Once you know who you are as a leader\, you can better manage your energy and prioritize your time.\n\n				\n			\n			\n				\n				\n				\n				\n				\n				\n				\n				\n				\n				Understanding your Strengths\nYour talents impact how you interact with the world. When you use your talents productively\, they can drive you and your team to new levels of success. But what most people don’t know is your talents can just as easily show up as weaknesses. You’ll learn how to better manage your talents\, so your more effective and productive.\n\n				\n			\n				\n				\n				\n				\n				coaching your team\n\nEmployees want a coach. Developing a system to consistently coach your team is one of the most effective things you can do as a supervisor. Coaching improves team performance and productivity. You’ll learn how to coach your team\, so you can help them focus their energy on their talents and give them opportunities for development.\n\n\n				\n			\n			\n				\n				\n				\n				\n				\n				\n				\n				\n				\n				Stress & Self-Care\nSupervisors experience more stress than the folks they supervise. Left unchecked\, it will negatively impact how you show up as a supervisor. Self-care isn’t just a buzzword\, it’s crucial for your success and wellbeing. You’ll learn the real impact of stress and how to develop a daily self-care practice that will allow you to be more effective.\n\n				\n			\n				\n				\n				\n				\n				Performance Management\n\nOne of the most challenging parts of a supervisor’s job is managing your team’s performance. Unfortunately\, managing performance can be stressful when you don’t have an effective system. You’ll learn how to set clear expectations and hold folks accountable\, whether it’s celebrating successes or dealing with failure.\n\n\n				\n			\n			\n				\n				\n				\n				\n			\n				\n				\n				\n				\n				\n				\n				\n				\n				\n				\n				managing change\nOne of the things we hear from everyone is “there’s been a lot of change here.” Change is inevitable\, and often stressful. Throughout the Institute\, you’ll discover ways you and your team can improve. This week\, you’ll learn to roll out those changes in a way that minimizes stress to you and your team and increases your chance of success.\n\n				\n			\n			\n				\n				\n				\n				\n				\n				\n				\n				\n				\n				implementing change\n\nThe last week of the Institute is focused on action. You’ll review what you’ve learned in the first seven weeks\, then develop your path forward\, with consideration to the specific needs of your institution. That way when the Institute is finished\, you can move forward\, focusing on exactly what you need to do to get the results you want.\n\n\n				\n			\n			\n				\n				\n				\n				\n			\n				\n				\n				\n				\n				\n				\n				\n				\n				\n				\n				Registration Rates\nEach attendee of the Supervisor Strengths Institute must register separately\, but team rates are available. Your first team member will pay full price\, but each additional team member gets $100 off their registration fee! If you’re the first team member\, select the full rate – either ACPA Member or Non-Member. Other members of your team should select the team rate. If you and/or your team need to pay by invoice\, just use the coupon code INVOICE during checkout. You’ll be asked whether the invoice is just for you\, or for your whole team. \n			\n			\n				\n				\n				\n				\n			\n				\n				\n				\n				\n				\n				\n				\n				\n				\n				\n				\n					ACPA MemberNon-Member\n				\n				\n					\n				\n				\n				\n				\n				$795\n			\n				\n				\n				\n				\n				$999 \nconsider becoming a member of ACPA to save $200 on your registration price!\n			\n				\n			\n			\n				\n				\n				\n				\n			\n				\n				\n				\n				\n				\n				\n				LEARN MORE & REGISTER for this event
URL:https://myacpa.org/event/strengths-university-summer24/
LOCATION:Online
CATEGORIES:Virtual
ATTACH;FMTTYPE=image/png:https://myacpa.org/wp-content/uploads/2024/04/9-Tuesdays-this-summer-28-May-23-July-12pm-1pm-ET-each-week.png
END:VEVENT
END:VCALENDAR