BEGIN:VCALENDAR
VERSION:2.0
PRODID:-//ACPA - ECPv6.15.20//NONSGML v1.0//EN
CALSCALE:GREGORIAN
METHOD:PUBLISH
X-ORIGINAL-URL:https://myacpa.org
X-WR-CALDESC:Events for ACPA
REFRESH-INTERVAL;VALUE=DURATION:PT1H
X-Robots-Tag:noindex
X-PUBLISHED-TTL:PT1H
BEGIN:VTIMEZONE
TZID:America/New_York
BEGIN:DAYLIGHT
TZOFFSETFROM:-0500
TZOFFSETTO:-0400
TZNAME:EDT
DTSTART:20240310T070000
END:DAYLIGHT
BEGIN:STANDARD
TZOFFSETFROM:-0400
TZOFFSETTO:-0500
TZNAME:EST
DTSTART:20241103T060000
END:STANDARD
BEGIN:DAYLIGHT
TZOFFSETFROM:-0500
TZOFFSETTO:-0400
TZNAME:EDT
DTSTART:20250309T070000
END:DAYLIGHT
BEGIN:STANDARD
TZOFFSETFROM:-0400
TZOFFSETTO:-0500
TZNAME:EST
DTSTART:20251102T060000
END:STANDARD
BEGIN:DAYLIGHT
TZOFFSETFROM:-0500
TZOFFSETTO:-0400
TZNAME:EDT
DTSTART:20260308T070000
END:DAYLIGHT
BEGIN:STANDARD
TZOFFSETFROM:-0400
TZOFFSETTO:-0500
TZNAME:EST
DTSTART:20261101T060000
END:STANDARD
END:VTIMEZONE
BEGIN:VEVENT
DTSTART;TZID=America/New_York:20250610T090000
DTEND;TZID=America/New_York:20250611T160000
DTSTAMP:20260423T134106
CREATED:20250304T152727Z
LAST-MODIFIED:20250514T190248Z
UID:18125-1749546000-1749657600@myacpa.org
SUMMARY:Program Design School
DESCRIPTION:program design schoollearn how to write participant guides\, facilitator guides\, identify 40 learning methods and leave with a template for writing consistently and engaging material with ease\n				registER NOW\n			\n			\n				\n				\n				\n				\n			\n				\n				\n			\n				\n				\n				\n				\n				\n				\n				\n				\n				\n				\n				\n				\n				\n				\n				\n				\n				\n				10-11 JUNE 2025 // 9am-4pm ET each dayDelivered Virtually\nJoin Erin Fischer from the Leadership and Training Studio for a two-day\, hands-on\, engaging session. Erin has hosted this program for 10 years and has graduated nearly a thousand higher education professionals in her Program Design School. \nErin will share how she wrote hundreds of programs in the past decade and still has more ideas. (As a matter of fact\, she has written eight new courses in three months.) You will learn how to write participant guides\, facilitator guides\, identify 40 interactive learning methods and understand why you can’t write learning objectives until the end of your course! By the end of the two days\, you will have a template for writing consistently–with ease and without procrastination. We are excited to continue to offer this outstanding professional development opportunity in a live virtual format using Zoom Video Conferencing.  \nThis is a session that maxes out with about 40 participants and you will be in small groups working on your own curriculum while learning the process. This allows for a ton of feedback but requires full engagement from 9am-4pm ET. \n			\n			\n				\n				\n				\n				\n			\n				\n				\n				\n				\n				\n				\n				\n				\n				\n				\n				It’s time to join the Program Design School if you:\n\nStruggle writing creative curriculum year after year.\nNeed to write quickly or move past writer’s block.\nNeed a specific plan and clear steps to write consistently.\nNeed new ideas for teaching methods beyond the boring\, unoriginal and overused methods.\nWrite task-related curriculum\, like how to run a meeting\, use Roberts Rules of Order or put together a strategic plan.\nWrite competency- or soft skills-based curriculum\, like feedback\, confidence or managing conflict.\nWant to network with professionals\, and leadership and education professionals from institutions and headquarters.\nWant to learn the trends in leadership development for all types of adult learners.\n\n			\n			\n				\n				\n				\n				\n				\n				\n				\n				\n				\n				Who Should Attend?\n\nLeadership development educators who create programs for students\nProfessionals who oversee leadership strategies or write curriculum\nEducation professionals who serve their headquarters or institution\n\n			\n			\n				\n				\n				\n				\n			\n				\n				\n				\n				\n				\n				\n				\n				\n				\n				\n				Registration Rates\nEach attendee of the Program Design School Online must be registered. Individual and team rates are available. Select “Add Additional Registrant” before submitting registration to add a team member from the same institution at a reduced rate! \n  \n			\n			\n				\n				\n				\n				\n			\n				\n				\n				\n				\n				\n				\n				\n				\n				\n				\n				\n					ACPA MemberNon-Member\n				\n				\n					\n				\n				\n				\n				\n				$399 \nadditional member from same institution + $199 eachadditional non-member from same institution + $299 each \n			\n				\n				\n				\n				\n				$499 \nconsider becoming a member of ACPA to save $100 on your registration price! \n			\n				\n			\n			\n				\n				\n				\n				\n			\n				\n				\n				\n				\n				\n				\n				REGISTER for this event\n			\n				\n				\n				\n				\n				In order to qualify for member rates for Program Design School\, membership with ACPA must be valid through 11 June 2025. You must have your own individual membership. ACPA Members who purchase a Program Design School Registration understand their membership needs to be active through 11 June 2025. If it is not active prior to the start of Program Design School you will not be provided with the link to access the Program Design School Event unless you renew your membership or pay the difference between the non-member and member registration cost. \nRegistrations can be paid by check\, VISA\, MasterCard\, Discover\, or American Express. All fees must be prepaid. Purchase orders are not accepted. Refunds will be given for cancelations\, received in writing at ACPA by 9 May 2025. Registrations can also be withdrawn by registrants using the event registration system through 9 May 2025. After 9 May 2025 there are no refunds. ACPA reserves the right to charge a service fee of US$50 for returned checks. Registrations are non-transferable. The conference may be canceled or postponed due to insufficient enrollment or other unforeseen circumstances. In this case\, the fees will be fully refunded; however\, ACPA will not be responsible for other additional costs\, charges or expenses\, including cancelation/change charges assessed by airlines and/or travel agencies. \n			\n			\n				\n				\n				\n				\n			\n				\n				\n				\n				\n				\n				\n				\n				\n				\n				\n				schedule\n*all times listed in Eastern Time \n			\n			\n				\n				\n				\n				\n			\n				\n				\n				\n				\n				\n				\n				\n				\n				\n				\n				Day 1\n9:00am – 12:00pm \n\nWelcome\nStep One: Manage Great Ideas and Set Boundaries\nStep Two: Create a List\nApplication: Steps One and Two\n\n1:00pm – 4:30pm \n\nStep Three: Portion It\nApplication Step Three\nStep Four: Create Tests with Learning Methods\nApplication: Step 4\n\n			\n			\n				\n				\n				\n				\n				\n				\n				\n				\n				\n				Day 2\n10:00am – 12:00pm \n\nWelcome Back\nStep Five: Write Learning Objectives\nApplication: Step Five\nStep Six: Write Participant and Facilitator Guides\nApplication: Step 6\n\n1:00pm- 4pm \n\nStep Seven: Permissions\, Design\, and Piloting\nStep Eight: Create Assessment\nStep Nine: Educational Strategies
URL:https://myacpa.org/event/pds-june25/
LOCATION:Online
CATEGORIES:Virtual
ATTACH;FMTTYPE=image/png:https://myacpa.org/wp-content/uploads/2025/03/april25_web-1-e1757700474314-scaled.png
END:VEVENT
BEGIN:VEVENT
DTSTART;TZID=America/New_York:20250611T150000
DTEND;TZID=America/New_York:20250611T160000
DTSTAMP:20260423T134106
CREATED:20250513T150724Z
LAST-MODIFIED:20250523T141426Z
UID:19650-1749654000-1749657600@myacpa.org
SUMMARY:Policy Pulse: June 2025 Learning Session
DESCRIPTION:june 2025 learning session\nWEDNESDAY\, 11 june 2025 // 3:00-4:00pm ET\n			\n				\n				\n				\n				\n				This 1 hour webinar will be an opportunity for ACPA members to get the latest updates on current Higher Ed Public Policy\, and to engage in dialogue on issues and application of best practices. This is an opportunity to learn about the nuances of Public Policy in the higher ed space and the implications in today’s political landscape.  \nThis free event is open to all ACPA members\, and registration is required to attend. You’re welcome to register using either your institutional or personal email address—whatever feels most comfortable for you. \nThe conversation will take place on Zoom\, and all registered participants will receive a link to join prior to the event. \n			\n			\n				\n				\n				\n				\n			\n				\n				\n				\n				\n				\n				\n				\n				\n				\n				\n				Facilitated by:\nRay Plaza\, Santa Clara UniversityACPA Chair\, Public Policy & Governmental Affairs \n			\n			\n				\n				\n				\n				\n				\n				Register Now\n			\n			\n				\n				\n				\n				\n			\n				\n				\n				\n				\n				\n				\n				\n				\n				\n				\n				In order to attend this ACPA Public Policy & Governmental Affairs Task Force sponsored event\, you must be a current member of ACPA. There is no cost associated with attendance. If you are not an ACPA member or have a lapsed membership\, you can become a member or renew by visiting the link below! \n			\n				Become an ACPA member to participate
URL:https://myacpa.org/event/policypulsejune25/
LOCATION:Online
CATEGORIES:Free for Members,Policy Pulse,Virtual
ATTACH;FMTTYPE=image/png:https://myacpa.org/wp-content/uploads/2025/05/policy_pulse.png
END:VEVENT
BEGIN:VEVENT
DTSTART;TZID=America/New_York:20250617T100000
DTEND;TZID=America/New_York:20250618T160000
DTSTAMP:20260423T134106
CREATED:20250411T170512Z
LAST-MODIFIED:20250417T193450Z
UID:19221-1750154400-1750262400@myacpa.org
SUMMARY:Facilitation School
DESCRIPTION:facilitation schoolLearn the top 12 things participants need from facilitators\, how to flex your style\, how to make concepts sticky\, the power of storytelling\, and leave with tips and tricks to make your programs more interactive\n				registration is open!\n			\n			\n				\n				\n				\n				\n			\n				\n				\n			\n				\n				\n				\n				\n				\n				\n				\n				\n				\n				\n				\n				\n				\n				\n				\n				\n				\n				17-18 June 2025\, 10:00am-4:00pm ET each dayDelivered Virtually\nJoin Erin Fischer and Dr. Michael McRee from the Leadership and Training Studio and The Whitespace Group for a virtual\, two-day\, hands-on session. (You might know Erin who has hosted Program Design School for 10 years and has graduated nearly a thousand higher education professionals through that experience.) \n Why should you (and your team) go? When we think about facilitation\, we know the right facilitator can make all the difference. You know this to be true if you remember the last bad facilitator you had. So\, we have created content to help you deliver the best for your audience. First\, as your guides\, we have scoured through Mike’s Ph.D. research and are sharing the top 12 things participants need from facilitators and the results are fascinating! Join us if you want to practice your facilitative skills\, increase your audience’s evaluations score on your work\, learn how to flex your style to meet your audience\, figure out how to make your work more interactive using the 70/30 rule\, practice your pace and pitch\, and learn where facilitators can often go wrong. Finally\, we will teach you how to read your audience when they make a face that stresses you out. \n			\n			\n				\n				\n				\n				\n			\n				\n				\n				\n				\n				\n				\n				\n				\n				\n				\n				As we share\, you never went to camp to watch videos about canoeing\, horseback riding\, and the ropes course. Why would your participants come to your course to watch you read the PowerPoints when they could be trying something themselves? Let us help you get better—fast. \n			\n			\n				\n				\n				\n				\n			\n				\n				\n				\n				\n				\n				\n				\n				\n				\n				\n				It’s time to join the Facilitation School if you:\n\nWant to get better and improve your facilitation.\nStruggle with confidence in front of a group.\nHave a hard time getting folks to participate.\nOverthink your guide and your PowerPoint but always talk too much.\nCan’t manage your time – you have too much time left over to fill or you feel like you can’t fit everything in – either way your participants get cheated.\nStruggle with silence in your programs.\nDon’t know how to get to your main point or go on too many tangents.\nWorry about your evaluation scores\, but don’t change your style to meet your audience.\nDon’t know how to make your work memorable or sticky. \n\n			\n			\n				\n				\n				\n				\n				\n				\n				\n				\n				\n				Who Should Attend?\nFolks representing the Dean of Students\, Academic Student Services\, Career Services and Prep\, Student Union\, Housing & Residence Life\, Financial Aid\, Student Involvement & Leadership\, Fraternity & Sorority Life\, Student Connections & Support Center\, Student Success\, Campus Mentoring Programs\, Managers of Student and Registered Organizations\, Shared Business Services\, Dining\, Admissions and New Student Programs\, Managers of Peer Mentors\, First Gen Student Programming\, Orientation\, Parent and Family Programming\, Educational Access Center\, Undergraduate Advising\, Grant-Funded Projects\, High Impact Educational Programming\, Community-Based Learning\, Communication and Partnerships\, and the Office of the Vice President. \n			\n			\n				\n				\n				\n				\n			\n				\n				\n				\n				\n				\n				\n				\n				\n				\n				\n				Registration Rates\nEach attendee of the Facilitation School Online must be registered. Individual and team rates are available. Select “Add Additional Registrant” before submitting registration to add a team member from the same institution at a reduced rate! \n  \n			\n			\n				\n				\n				\n				\n			\n				\n				\n				\n				\n				\n				\n				\n				\n				\n				\n				\n					ACPA MemberNon-Member\n				\n				\n					\n				\n				\n				\n				\n				$399 \nadditional member from same institution + $269 each \n			\n				\n				\n				\n				\n				$499 \nadditional member from same institution + $369 each \nconsider becoming a member of ACPA to save $100 on your registration price! \n			\n				\n			\n			\n				\n				\n				\n				\n			\n				\n				\n				\n				\n				\n				\n				REGISTER for this event\n			\n				\n				\n				\n				\n				In order to qualify for member rates for Facilitation School\, membership with ACPA must be valid through 18 June 2025. You must have your own individual membership. ACPA Members who purchase a Facilitation School Registration understand their membership needs to be active through 18 June 2025. If it is not active prior to the start of Facilitation School you will not be provided with the link to access the Facilitation School Event unless you renew your membership or pay the difference between the non-member and member registration cost. \nRegistrations can be paid by check\, VISA\, MasterCard\, Discover\, or American Express. All fees must be prepaid. Purchase orders are not accepted. Refunds will be given for cancelations\, received in writing at ACPA by 16 May 2025. Registrations can also be withdrawn by registrants using the event registration system through 16 May 2025. After 16 May 2025 there are no refunds. ACPA reserves the right to charge a service fee of US$50 for returned checks. Registrations are non-transferable. The conference may be canceled or postponed due to insufficient enrollment or other unforeseen circumstances. In this case\, the fees will be fully refunded; however\, ACPA will not be responsible for other additional costs\, charges or expenses.
URL:https://myacpa.org/event/fs-june25/
LOCATION:Online
CATEGORIES:Virtual
ATTACH;FMTTYPE=image/png:https://myacpa.org/wp-content/uploads/2025/03/april25_web-scaled.png
END:VEVENT
BEGIN:VEVENT
DTSTART;TZID=America/New_York:20250618T090000
DTEND;TZID=America/New_York:20250618T100000
DTSTAMP:20260423T134106
CREATED:20250513T171613Z
LAST-MODIFIED:20250514T143340Z
UID:19682-1750237200-1750240800@myacpa.org
SUMMARY:Webinar: Experiences of International Students in Higher Education & Student Affairs Master's Programs
DESCRIPTION:Experiences of International Students in Higher Education & Student Affairs Master’s Program\nWEDNESDAY\, 18 JUNE 2025 // 9:00AM – 10:00AM ET\n			\n			\n				\n				\n				\n				\n			\n				\n				\n				\n				\n				\n				\n				\n				\n				\n				\n				Are you starting a higher education and student affairs (or related) Master’s program in the fall semester or planning to apply for a program? This panel discussion will highlight experiences of current Master’s students in higher education and student affairs program. Our panelists will share practical tips on how to prepare for the transition to the United States and the start of your Master’s studies. Registered participants will receive a recording of the session along with a folder of resources about the field of higher education and student affairs. \n			\n				\n				\n				\n				\n				PROFESSIONAL COMPETENCIES\nStudent Learning and Development \n			\n			\n				\n				\n				\n				\n				\n				Register Now\n			\n				\n				\n				\n				\n				\nACPA Individual Member – $20\nACPA International Member – $5\nNon-Member – $40\n\n			\n			\n				\n				\n				\n				\n			\n				\n				\n				\n				\n				\n				\n				\n				\n				\n				\n				Webinar Panelists\n			\n			\n				\n				\n				\n				\n			\n				\n				\n				\n				\n				\n				\n				\n				\n				\n				\n				\n				\n					Gudrun Nyunt\n					Associate Professor and Program Coordinator \n					Higher Education & Student Affairs ProgramNorthern Illinois University \n					\n				\n			\n				\n				\n				\n				\n				\n				\n					Bennett Dompreh\n					2nd year Graduate Student and Graduate Assistant in EHS Success Center \n					Higher Education Master’s ProgramMiami University \n					\n				\n			\n			\n				\n				\n				\n				\n				\n				\n				\n				\n				\n				\n				\n					Kenny Amponsah\n					2nd year Graduate Student and Housing & Residence Life Graduate Assistant \n					Higher Education and Student Affairs Masters ProgramNorthern Illinois University \n					\n				\n			\n				\n				\n				\n				\n				\n				\n					Nanako Tojo\n					2nd year Graduate Student \n					Higher Education AdministrationGeorge Washington University \n					\n				\n			\n			\n				\n				\n				\n				\n			\n				\n				\n				\n				\n				\n				\n				\n				\n				\n				\n				In order to qualify for member rates for an ACPA webinar\, membership with ACPA must be valid through the scheduled webinar date. You must have your own individual membership. ACPA Members who purchase a  webinar registration understand their membership needs to be active through the scheduled webinar date. If it is not active prior to the start of the webinar you will not be provided with the link to access the Webinar unless you renew your membership or pay the difference between the non-member and member registration cost. \nRegistration purchases are final. Registrations can be paid by check\, VISA\, MasterCard\, Discover\, or American Express. All fees must be prepaid. Purchase orders are not accepted. ACPA reserves the right to charge a service fee of US$50 for returned checks. Registrations are non-transferable. The webinar may be canceled or postponed due to insufficient enrollment or other unforeseen circumstances. In this case\, the fees will be fully refunded.
URL:https://myacpa.org/event/experiences-of-international-students-in-higher-education-student-affairs-masters-program/
LOCATION:Online
CATEGORIES:Virtual
ATTACH;FMTTYPE=image/png:https://myacpa.org/wp-content/uploads/2025/05/webinar_logo.png
END:VEVENT
BEGIN:VEVENT
DTSTART;TZID=America/New_York:20250626T130000
DTEND;TZID=America/New_York:20250626T140000
DTSTAMP:20260423T134106
CREATED:20250326T141113Z
LAST-MODIFIED:20250409T193903Z
UID:18626-1750942800-1750946400@myacpa.org
SUMMARY:ACPA2GO: Disrupting the Empty Vessel Hypothesis: Critically Engaging White Students
DESCRIPTION:Disrupting the Empty Vessel Hypothesis: Critically Engaging White Students\nTHURSDAY\, 26 JUNE 2025 // 1:00PM – 2:00PM ET\n			\n			\n				\n				\n				\n				\n			\n				\n				\n				\n				\n				\n				\n				\n				\n				\n				\n				Educating white students about racism and racial identities is an important facet of development and vital for disrupting racist violence. However\, many educators treat white students as if they are empty vessels\, merely awaiting knowledge about race and racism. Drawing on insights from their forthcoming book\, this session challenges the empty vessel approach by leveraging presenters’ scholarship about white students’ racial socialization to translate theory into practice. Attendees will engage in meaningful dialogue to identify practical strategies for challenging whiteness. \n			\n				Register Now\n			\n				\n				\n				\n				\n				\nACPA Individual Member – $10\nACPA International Member – $5\nNon-Member – $20\n\n			\n			\n				\n				\n				\n				\n				\n				\n				\n				\n				\n				Presented by:\nLauren Irwin\, University of Tennessee-KnoxvilleZak Foste\, University of Kansas \n			\n				\n				\n				\n				\n				PROFESSIONAL COMPETENCIES\nSocial Justice and InclusionStudent Learning and Development \n			\n			\n				\n				\n				\n				\n			\n				\n				\n				\n				\n				\n				\n				\n				\n				\n				\n				In order to qualify for member rates for an ACPA2GO webinar\, membership with ACPA must be valid through the scheduled webinar date. You must have your own individual membership. ACPA Members who purchase an ACPA2GO webinar registration understand their membership needs to be active through the scheduled webinar date. If it is not active prior to the start of the ACPA2GO webinar you will not be provided with the link to access the ACPA2Go Webinar unless you renew your membership or pay the difference between the non-member and member registration cost. \nACPA2Go registration purchases are final. Registrations can be paid by check\, VISA\, MasterCard\, Discover\, or American Express. All fees must be prepaid. Purchase orders are not accepted. ACPA reserves the right to charge a service fee of US$50 for returned checks. Registrations are non-transferable. The webinar may be canceled or postponed due to insufficient enrollment or other unforeseen circumstances. In this case\, the fees will be fully refunded. \n			\n				Check out past ACPA2GO Webinars and purchase recordings
URL:https://myacpa.org/event/disrupting-the-empty-vessel-hypothesis-critically-engaging-white-students/
LOCATION:Online
CATEGORIES:ACPA2GO,Virtual
ATTACH;FMTTYPE=image/png:https://myacpa.org/wp-content/uploads/2025/03/sq.png
END:VEVENT
END:VCALENDAR