BEGIN:VCALENDAR
VERSION:2.0
PRODID:-//ACPA - ECPv6.15.20//NONSGML v1.0//EN
CALSCALE:GREGORIAN
METHOD:PUBLISH
X-WR-CALNAME:ACPA
X-ORIGINAL-URL:https://myacpa.org
X-WR-CALDESC:Events for ACPA
REFRESH-INTERVAL;VALUE=DURATION:PT1H
X-Robots-Tag:noindex
X-PUBLISHED-TTL:PT1H
BEGIN:VTIMEZONE
TZID:America/New_York
BEGIN:DAYLIGHT
TZOFFSETFROM:-0500
TZOFFSETTO:-0400
TZNAME:EDT
DTSTART:20240310T070000
END:DAYLIGHT
BEGIN:STANDARD
TZOFFSETFROM:-0400
TZOFFSETTO:-0500
TZNAME:EST
DTSTART:20241103T060000
END:STANDARD
BEGIN:DAYLIGHT
TZOFFSETFROM:-0500
TZOFFSETTO:-0400
TZNAME:EDT
DTSTART:20250309T070000
END:DAYLIGHT
BEGIN:STANDARD
TZOFFSETFROM:-0400
TZOFFSETTO:-0500
TZNAME:EST
DTSTART:20251102T060000
END:STANDARD
BEGIN:DAYLIGHT
TZOFFSETFROM:-0500
TZOFFSETTO:-0400
TZNAME:EDT
DTSTART:20260308T070000
END:DAYLIGHT
BEGIN:STANDARD
TZOFFSETFROM:-0400
TZOFFSETTO:-0500
TZNAME:EST
DTSTART:20261101T060000
END:STANDARD
END:VTIMEZONE
BEGIN:VTIMEZONE
TZID:America/New_York
BEGIN:DAYLIGHT
TZOFFSETFROM:-0500
TZOFFSETTO:-0400
TZNAME:EDT
DTSTART:20240310T070000
END:DAYLIGHT
BEGIN:STANDARD
TZOFFSETFROM:-0400
TZOFFSETTO:-0500
TZNAME:EST
DTSTART:20241103T060000
END:STANDARD
BEGIN:DAYLIGHT
TZOFFSETFROM:-0500
TZOFFSETTO:-0400
TZNAME:EDT
DTSTART:20250309T070000
END:DAYLIGHT
BEGIN:STANDARD
TZOFFSETFROM:-0400
TZOFFSETTO:-0500
TZNAME:EST
DTSTART:20251102T060000
END:STANDARD
BEGIN:DAYLIGHT
TZOFFSETFROM:-0500
TZOFFSETTO:-0400
TZNAME:EDT
DTSTART:20260308T070000
END:DAYLIGHT
BEGIN:STANDARD
TZOFFSETFROM:-0400
TZOFFSETTO:-0500
TZNAME:EST
DTSTART:20261101T060000
END:STANDARD
END:VTIMEZONE
BEGIN:VTIMEZONE
TZID:America/Halifax
BEGIN:DAYLIGHT
TZOFFSETFROM:-0400
TZOFFSETTO:-0300
TZNAME:ADT
DTSTART:20240310T060000
END:DAYLIGHT
BEGIN:STANDARD
TZOFFSETFROM:-0300
TZOFFSETTO:-0400
TZNAME:AST
DTSTART:20241103T050000
END:STANDARD
BEGIN:DAYLIGHT
TZOFFSETFROM:-0400
TZOFFSETTO:-0300
TZNAME:ADT
DTSTART:20250309T060000
END:DAYLIGHT
BEGIN:STANDARD
TZOFFSETFROM:-0300
TZOFFSETTO:-0400
TZNAME:AST
DTSTART:20251102T050000
END:STANDARD
BEGIN:DAYLIGHT
TZOFFSETFROM:-0400
TZOFFSETTO:-0300
TZNAME:ADT
DTSTART:20260308T060000
END:DAYLIGHT
BEGIN:STANDARD
TZOFFSETFROM:-0300
TZOFFSETTO:-0400
TZNAME:AST
DTSTART:20261101T050000
END:STANDARD
END:VTIMEZONE
BEGIN:VEVENT
DTSTART;TZID=America/New_York:20250811T150000
DTEND;TZID=America/New_York:20250811T160000
DTSTAMP:20260419T124407
CREATED:20250513T152020Z
LAST-MODIFIED:20250523T141403Z
UID:19666-1754924400-1754928000@myacpa.org
SUMMARY:Policy Pulse: August 2025 Learning Session
DESCRIPTION:august 2025 learning session\nmonday\, 11 august 2025 // 3:00-4:00pm ET\n			\n				\n				\n				\n				\n				This 1 hour webinar will be an opportunity for ACPA members to get the latest updates on current Higher Ed Public Policy\, and to engage in dialogue on issues and application of best practices. This is an opportunity to learn about the nuances of Public Policy in the higher ed space and the implications in today’s political landscape.  \nThis free event is open to all ACPA members\, and registration is required to attend. You’re welcome to register using either your institutional or personal email address—whatever feels most comfortable for you. \nThe conversation will take place on Zoom\, and all registered participants will receive a link to join prior to the event. \n			\n			\n				\n				\n				\n				\n			\n				\n				\n				\n				\n				\n				\n				\n				\n				\n				\n				Facilitated by:\nRay Plaza\, Santa Clara UniversityACPA Chair\, Public Policy & Governmental Affairs \n			\n			\n				\n				\n				\n				\n				\n				Register Now\n			\n			\n				\n				\n				\n				\n			\n				\n				\n				\n				\n				\n				\n				\n				\n				\n				\n				In order to attend this ACPA Public Policy & Governmental Affairs Task Force sponsored event\, you must be a current member of ACPA. There is no cost associated with attendance. If you are not an ACPA member or have a lapsed membership\, you can become a member or renew by visiting the link below! \n			\n				Become an ACPA member to participate
URL:https://myacpa.org/event/policypulseaugust25/
LOCATION:Online
CATEGORIES:Free for Members,Policy Pulse,Virtual
ATTACH;FMTTYPE=image/png:https://myacpa.org/wp-content/uploads/2025/05/policy_pulse.png
END:VEVENT
BEGIN:VEVENT
DTSTART;TZID=America/New_York:20250814T120000
DTEND;TZID=America/New_York:20250814T130000
DTSTAMP:20260419T124407
CREATED:20250529T125113Z
LAST-MODIFIED:20250529T125123Z
UID:19830-1755172800-1755176400@myacpa.org
SUMMARY:ACPA2GO: Transforming Higher Education with AI: Balancing Innovation\, Efficiency\, and Equity
DESCRIPTION:Transforming Higher Education with AI: Balancing Innovation\, Efficiency\, and Equity\nTHURSDAY\, 14 AUGUST 2025 // 12:00PM – 1:00PM ET\n			\n			\n				\n				\n				\n				\n			\n				\n				\n				\n				\n				\n				\n				\n				\n				\n				\n				AI offers exciting opportunities to refresh\, renew\, and revitalize learning experiences\, administrative efficiency\, and equity and inclusion. But at what cost? In this session\, we’ll discuss the ethical considerations and biases inherent in AI systems as well as best practices for implementing AI in ways that foster inclusive and supportive educational environments. Whether you are an entry-level professional\, senior administrator\, or faculty member\, this session will provide valuable perspectives and practical strategies for leveraging AI with a critical lens. \n			\n				Register Now\n			\n				\n				\n				\n				\n				\nACPA Individual Member – $10\nACPA International Member – $5\nNon-Member – $20\n\n			\n			\n				\n				\n				\n				\n				\n				\n				\n				\n				\n				Presented by:\nHanna Dovalina\, University of Wisconsin\, La CrosseBecki Elkins\, University of Wisconsin\, La Crosse \n			\n				\n				\n				\n				\n				PROFESSIONAL COMPETENCIES\nSocial Justice and Inclusion (SJI)Technology (TECH) \n			\n			\n				\n				\n				\n				\n			\n				\n				\n				\n				\n				\n				\n				\n				\n				\n				\n				In order to qualify for member rates for an ACPA2GO webinar\, membership with ACPA must be valid through the scheduled webinar date. You must have your own individual membership. ACPA Members who purchase an ACPA2GO webinar registration understand their membership needs to be active through the scheduled webinar date. If it is not active prior to the start of the ACPA2GO webinar you will not be provided with the link to access the ACPA2Go Webinar unless you renew your membership or pay the difference between the non-member and member registration cost. \nACPA2Go registration purchases are final. Registrations can be paid by check\, VISA\, MasterCard\, Discover\, or American Express. All fees must be prepaid. Purchase orders are not accepted. ACPA reserves the right to charge a service fee of US$50 for returned checks. Registrations are non-transferable. The webinar may be canceled or postponed due to insufficient enrollment or other unforeseen circumstances. In this case\, the fees will be fully refunded. \n			\n				Check out past ACPA2GO Webinars and purchase recordings
URL:https://myacpa.org/event/transforming-higher-education-with-ai-balancing-innovation-efficiency-and-equity/
LOCATION:Online
CATEGORIES:ACPA2GO,Virtual
ATTACH;FMTTYPE=image/png:https://myacpa.org/wp-content/uploads/2025/03/sq.png
END:VEVENT
BEGIN:VEVENT
DTSTART;TZID=America/New_York:20250822T130000
DTEND;TZID=America/New_York:20250822T140000
DTSTAMP:20260419T124407
CREATED:20250804T192705Z
LAST-MODIFIED:20250811T185421Z
UID:20510-1755867600-1755871200@myacpa.org
SUMMARY:Coalition on Men & Masculinities ACPA26 Program Proposal Workshop
DESCRIPTION:Coaltion on men and masculinities PROGRAM PROPOSAL WORKSHOP\nVirtual Workshop // 22 August 2025 // 1:00PM-2:00PM ET\n\nAre you interested in putting together a proposal for the upcoming 2026 ACPA Convention?\nThe Coalition on Men and Masculinities is holding a virtual program proposal workshop on 22 August 2025! Whether you are new to submitting proposals or have submitted in the past\, this no-cost session is open to all individuals. In this virtual session\, we will cover tips and advice for the submission of your proposal. Additionally\, this session will provide space to discuss potential topics related to men and masculinities research and practice. New collaborations and co-presenters for proposals may emerge. While we hope you will consider submitting a proposal that covers men and masculinities topics\, it is not required that you have such a proposal in mind to attend this session. \n			\n			\n				\n				\n				\n				\n			\n				\n				\n				\n				\n				\n				\n				Register today
URL:https://myacpa.org/event/cmm-proposal-workshop-25/
CATEGORIES:Coalition on Men & Masculinities,Free for Members,Virtual
ATTACH;FMTTYPE=image/png:https://myacpa.org/wp-content/uploads/2020/11/main-01-12.png
END:VEVENT
BEGIN:VEVENT
DTSTART;TZID=America/Halifax:20250824T110000
DTEND;TZID=America/Halifax:20250824T130000
DTSTAMP:20260419T124407
CREATED:20250806T135641Z
LAST-MODIFIED:20251001T152403Z
UID:20610-1756033200-1756040400@myacpa.org
SUMMARY:Doctoral Student Writing Group presented by Graduate Students & New Professionals Community of Practice
DESCRIPTION:Doctoral Student Writing Group\npresented by Graduate Students & New Professionals Community of Practice\nAre you a current doctoral student or doctoral candidate looking for a dedicated study/writing space or looking for accountability buddies? Join GSNP’s Doctoral Study & Writing Space. This is a biweekly space to study/write and form a community of fellow doctoral students & candidates! \nDates & Times: \n\nEvery other Sunday starting August 24th (August 24\, Sept 7\, Sept 21\, Oct 5\, Oct 19\, Nov 2\, Nov 16\, Nov 30\, Dec 14)\n11:00am-1:00pm ET (8am-10am PT)\n\nParticipants must register in advance for this series. After registering\, you will receive a confirmation email containing information about joining the meeting. \n			\n				REGISTER TODAY
URL:https://myacpa.org/event/doctoral-study-and-writing-space/
CATEGORIES:Graduate Students & New Professionals Community of Practice,Virtual
ATTACH;FMTTYPE=image/png:https://myacpa.org/wp-content/uploads/2022/03/main_logo-01.png
ORGANIZER;CN="Graduate Students &amp%3B New Professionals Community of Practice":MAILTO:gsnpcop@ACPA.nche.edu
END:VEVENT
END:VCALENDAR